View In:
ArcGIS JavaScript
ArcGIS Online Map Viewer
ArcGIS Earth
ArcMap
View Footprint In:
ArcGIS Online Map Viewer
Service Description: Digital reproduction of map ( _ x _ in.) published in The Battle of Lundy’s Lane, 25thJuly 1814. A Historical Study / by Ernest Cruikshank, published 1893.
Includes detailed legend: "Explanation of sketch of action of the 25th July, 1814" bound to the left for the map.
Map date of information: 1814. Bound in book published 1893.
Relief shown by hachures.
Georeferenced and modified from Brock University Archives & Special Collections call# FC 446 L8 C75 1893,
by Map, Data and GIS Library, Brock University.
Name: EarlyNiagara/Battle_Lundys_Lane_1814_geo_tif
Description: Digital reproduction of map ( _ x _ in.) published in The Battle of Lundy’s Lane, 25thJuly 1814. A Historical Study / by Ernest Cruikshank, published 1893.
Includes detailed legend: "Explanation of sketch of action of the 25th July, 1814" bound to the left for the map.
Map date of information: 1814. Bound in book published 1893.
Relief shown by hachures.
Georeferenced and modified from Brock University Archives & Special Collections call# FC 446 L8 C75 1893,
by Map, Data and GIS Library, Brock University.
Single Fused Map Cache: false
Extent:
XMin: -8813142.380877966
YMin: 5319212.354417652
XMax: -8800104.374721967
YMax: 5331531.101039652
Spatial Reference: 102100
(3857)
Initial Extent:
XMin: -8813142.380877966
YMin: 5319212.354417652
XMax: -8800104.374721967
YMax: 5331531.101039652
Spatial Reference: 102100
(3857)
Full Extent:
XMin: -8813142.380877966
YMin: 5319212.354417652
XMax: -8800104.374721967
YMax: 5331531.101039652
Spatial Reference: 102100
(3857)
Pixel Size X: 1.9028029999999092
Pixel Size Y: 1.902802999999983
Band Count: 1
Pixel Type: U16
RasterFunction Infos: {"rasterFunctionInfos": [{
"name": "None",
"description": "",
"help": ""
}]}
Mensuration Capabilities: Basic
Has Histograms: true
Has Colormap: false
Has Multi Dimensions : false
Rendering Rule:
Min Scale: 0
Max Scale: 0
Copyright Text: Map, Data & GIS Library, Brock University.
Service Data Type: esriImageServiceDataTypeGeneric
Min Values: 0
Max Values: 255
Mean Values: 195.31611893216
Standard Deviation Values: 46.21205550767
Object ID Field:
Fields:
None
Default Mosaic Method: Center
Allowed Mosaic Methods:
SortField:
SortValue: null
Mosaic Operator: First
Default Compression Quality: 75
Default Resampling Method: Bilinear
Max Record Count: null
Max Image Height: 4100
Max Image Width: 15000
Max Download Image Count: null
Max Mosaic Image Count: null
Allow Raster Function: true
Allow Copy: true
Allow Analysis: true
Allow Compute TiePoints: false
Supports Statistics: false
Supports Advanced Queries: false
Use StandardizedQueries: true
Raster Type Infos:
Name: Raster Dataset
Description: Supports all ArcGIS Raster Datasets
Help:
Has Raster Attribute Table: false
Edit Fields Info: null
Ownership Based AccessControl For Rasters: null
Child Resources:
Info
Histograms
Statistics
Key Properties
Legend
Raster Function Infos
Supported Operations:
Export Image
Identify
Measure
Compute Histograms
Compute Statistics Histograms
Get Samples
Compute Class Statistics
Query Boundary
Compute Pixel Location
Compute Angles
Validate
Project