View In:
ArcGIS JavaScript
ArcGIS Online Map Viewer
ArcGIS Earth
ArcMap
View Footprint In:
ArcGIS Online Map Viewer
Service Description: Historical map of Bridgewater Mills showing..... [500]Digital reproduction of map ( _ x _ in.) in the Public Archives of Canada. National Map Collection. Library and Archives Canada.Relief shown by _Georeferenced and modified from NMC Map number 21727 by Map, Data and GIS Library, Brock University.
Name: EarlyNiagara/BridgewaterMills1807NMC21727
Description: Historical map of Bridgewater Mills showing..... [500]Digital reproduction of map ( _ x _ in.) in the Public Archives of Canada. National Map Collection. Library and Archives Canada.Relief shown by _Georeferenced and modified from NMC Map number 21727 by Map, Data and GIS Library, Brock University.
Single Fused Map Cache: false
Extent:
XMin: 657107.5009673929
YMin: 4769368.873552396
XMax: 659155.7529033929
YMax: 4770784.102744396
Spatial Reference: 26917
(26917)
Initial Extent:
XMin: 657107.5009673929
YMin: 4769368.873552396
XMax: 659155.7529033929
YMax: 4770784.102744396
Spatial Reference: 26917
(26917)
Full Extent:
XMin: 657107.5009673929
YMin: 4769368.873552396
XMax: 659155.7529033929
YMax: 4770784.102744396
Spatial Reference: 26917
(26917)
Pixel Size X: 0.5039989999999894
Pixel Size Y: 0.5039989999999581
Band Count: 1
Pixel Type: U16
RasterFunction Infos: {"rasterFunctionInfos": [{
"name": "None",
"description": "",
"help": ""
}]}
Mensuration Capabilities: Basic
Has Histograms: true
Has Colormap: false
Has Multi Dimensions : false
Rendering Rule:
Min Scale: 0
Max Scale: 0
Copyright Text: Map, Data & GIS Library, Brock University.
Service Data Type: esriImageServiceDataTypeGeneric
Min Values: 0
Max Values: 255
Mean Values: 152.85873435709
Standard Deviation Values: 22.236824855468
Object ID Field:
Fields:
None
Default Mosaic Method: Center
Allowed Mosaic Methods:
SortField:
SortValue: null
Mosaic Operator: First
Default Compression Quality: 75
Default Resampling Method: Bilinear
Max Record Count: null
Max Image Height: 4100
Max Image Width: 15000
Max Download Image Count: null
Max Mosaic Image Count: null
Allow Raster Function: true
Allow Copy: true
Allow Analysis: true
Allow Compute TiePoints: false
Supports Statistics: false
Supports Advanced Queries: false
Use StandardizedQueries: true
Raster Type Infos:
Name: Raster Dataset
Description: Supports all ArcGIS Raster Datasets
Help:
Has Raster Attribute Table: false
Edit Fields Info: null
Ownership Based AccessControl For Rasters: null
Child Resources:
Info
Histograms
Statistics
Key Properties
Legend
Raster Function Infos
Supported Operations:
Export Image
Identify
Measure
Compute Histograms
Compute Statistics Histograms
Get Samples
Compute Class Statistics
Query Boundary
Compute Pixel Location
Compute Angles
Validate
Project