View In:
ArcGIS JavaScript
ArcGIS Online Map Viewer
ArcGIS Earth
ArcMap
View Footprint In:
ArcGIS Online Map Viewer
Service Description: Historical map of "Canada West" (current day Ontario), showing boundary, road and transportation features.
Digital reproduction of map (39 x 55 in.) in the Public Archives of Canada. National Map Collection. Library and Archives Canada.
"published by A.J. Johnson, New York ; entered according to Act of Congress in the year 1867 by A.J. Johnson, in the Clerks Office of the District Court of the United States for the Southern District of New York."
Includes inset: Niagara River and vicinity, scale 1:633,600.
Georeferenced and modified from NMC Map number 2928 by Map, Data and GIS Library, Brock University.
Name: EarlyNiagara/CanadaWest1867NMC2928
Description: Historical map of "Canada West" (current day Ontario), showing boundary, road and transportation features.
Digital reproduction of map (39 x 55 in.) in the Public Archives of Canada. National Map Collection. Library and Archives Canada.
"published by A.J. Johnson, New York ; entered according to Act of Congress in the year 1867 by A.J. Johnson, in the Clerks Office of the District Court of the United States for the Southern District of New York."
Includes inset: Niagara River and vicinity, scale 1:633,600.
Georeferenced and modified from NMC Map number 2928 by Map, Data and GIS Library, Brock University.
Single Fused Map Cache: false
Extent:
XMin: -9376277.254955411
YMin: 5066072.043197423
XMax: -8197140.362327411
YMax: 5892670.519457423
Spatial Reference: 102100
(3857)
Initial Extent:
XMin: -9376277.254955411
YMin: 5066072.043197423
XMax: -8197140.362327411
YMax: 5892670.519457423
Spatial Reference: 102100
(3857)
Full Extent:
XMin: -9376277.254955411
YMin: 5066072.043197423
XMax: -8197140.362327411
YMax: 5892670.519457423
Spatial Reference: 102100
(3857)
Pixel Size X: 179.500212
Pixel Size Y: 179.50021199999998
Band Count: 3
Pixel Type: U16
RasterFunction Infos: {"rasterFunctionInfos": [{
"name": "None",
"description": "",
"help": ""
}]}
Mensuration Capabilities: Basic
Has Histograms: true
Has Colormap: false
Has Multi Dimensions : false
Rendering Rule:
Min Scale: 0
Max Scale: 0
Copyright Text: Map, Data & GIS Library, Brock University.
Service Data Type: esriImageServiceDataTypeGeneric
Min Values: 44, 40, 38
Max Values: 237, 214, 198
Mean Values: 193.90671143362, 173.82492212472, 153.74378218748
Standard Deviation Values: 36.476730451728, 35.204096339793, 30.294151031755
Object ID Field:
Fields:
None
Default Mosaic Method: Center
Allowed Mosaic Methods:
SortField:
SortValue: null
Mosaic Operator: First
Default Compression Quality: 75
Default Resampling Method: Bilinear
Max Record Count: null
Max Image Height: 4100
Max Image Width: 15000
Max Download Image Count: null
Max Mosaic Image Count: null
Allow Raster Function: true
Allow Copy: true
Allow Analysis: true
Allow Compute TiePoints: false
Supports Statistics: false
Supports Advanced Queries: false
Use StandardizedQueries: true
Raster Type Infos:
Name: Raster Dataset
Description: Supports all ArcGIS Raster Datasets
Help:
Has Raster Attribute Table: false
Edit Fields Info: null
Ownership Based AccessControl For Rasters: null
Child Resources:
Info
Histograms
Statistics
Key Properties
Legend
Raster Function Infos
Supported Operations:
Export Image
Identify
Measure
Compute Histograms
Compute Statistics Histograms
Get Samples
Compute Class Statistics
Query Boundary
Compute Pixel Location
Compute Angles
Validate
Project