View In:
ArcGIS JavaScript
ArcGIS Online Map Viewer
ArcGIS Earth
ArcMap
View Footprint In:
ArcGIS Online Map Viewer
Service Description: Historical map showing streets, railroads, lot and concession numbers, ward boundaries and county boundaries.
Scale 10 chains to an inch
Map date: 1879
Map is page 21 of the Atlas of the province of Ontario by counties / published by Miles and Company, Toronto
Digital reproduction of map (23 x 29 cm.) in the Brock University Map, Data & GIS Library collection.
Georeferenced and modified from Brock call # G 3464 S35 1879 M55 by Map, Data and GIS Library, Brock University. (verso map)
Name: EarlyNiagara/Cayuga1879
Description: Historical map showing streets, railroads, lot and concession numbers, ward boundaries and county boundaries.
Scale 10 chains to an inch
Map date: 1879
Map is page 21 of the Atlas of the province of Ontario by counties / published by Miles and Company, Toronto
Digital reproduction of map (23 x 29 cm.) in the Brock University Map, Data & GIS Library collection.
Georeferenced and modified from Brock call # G 3464 S35 1879 M55 by Map, Data and GIS Library, Brock University. (verso map)
Single Fused Map Cache: false
Extent:
XMin: 591347.8236375074
YMin: 4754366.178942066
XMax: 594600.4473225074
YMax: 4757262.479652066
Spatial Reference: 26917
(26917)
Initial Extent:
XMin: 591347.8236375074
YMin: 4754366.178942066
XMax: 594600.4473225074
YMax: 4757262.479652066
Spatial Reference: 26917
(26917)
Full Extent:
XMin: 591347.8236375074
YMin: 4754366.178942066
XMax: 594600.4473225074
YMax: 4757262.479652066
Spatial Reference: 26917
(26917)
Pixel Size X: 1.3446149999999994
Pixel Size Y: 1.3446150000000454
Band Count: 3
Pixel Type: U16
RasterFunction Infos: {"rasterFunctionInfos": [{
"name": "None",
"description": "",
"help": ""
}]}
Mensuration Capabilities: Basic
Has Histograms: true
Has Colormap: false
Has Multi Dimensions : false
Rendering Rule:
Min Scale: 0
Max Scale: 0
Copyright Text: Publisher: Miles and Company, Toronto
Map, Data & GIS Library, Brock University.
Service Data Type: esriImageServiceDataTypeGeneric
Min Values: 1, 0, 0
Max Values: 255, 255, 255
Mean Values: 202.10832381158, 180.14122345469, 148.6200146392
Standard Deviation Values: 33.499003334715, 30.646459372932, 26.881462660276
Object ID Field:
Fields:
None
Default Mosaic Method: Center
Allowed Mosaic Methods:
SortField:
SortValue: null
Mosaic Operator: First
Default Compression Quality: 75
Default Resampling Method: Bilinear
Max Record Count: null
Max Image Height: 4100
Max Image Width: 15000
Max Download Image Count: null
Max Mosaic Image Count: null
Allow Raster Function: true
Allow Copy: true
Allow Analysis: true
Allow Compute TiePoints: false
Supports Statistics: false
Supports Advanced Queries: false
Use StandardizedQueries: true
Raster Type Infos:
Name: Raster Dataset
Description: Supports all ArcGIS Raster Datasets
Help:
Has Raster Attribute Table: false
Edit Fields Info: null
Ownership Based AccessControl For Rasters: null
Child Resources:
Info
Histograms
Statistics
Key Properties
Legend
Raster Function Infos
Supported Operations:
Export Image
Identify
Measure
Compute Histograms
Compute Statistics Histograms
Get Samples
Compute Class Statistics
Query Boundary
Compute Pixel Location
Compute Angles
Validate
Project