View In:
ArcGIS JavaScript
ArcGIS Online Map Viewer
ArcGIS Earth
ArcMap
View Footprint In:
ArcGIS Online Map Viewer
Service Description: Historical map showing Chippawa Creek and the Military Reserve alongside several buildings. The shoreline and conditions of the Niagara River (i.e. course of raft and mill race) heading towards Bridgewater Mills (Fort Erie) are drawn. "McGill and Canby's Upper Boundary" and three other mill sites are noted.
Relief shown by shading.
Map date: 1807
Digital reproduction of map ( 33 x 85 cm.) in the Public Archives of Canada. National Map Collection. Library and Archives Canada.
Georeferenced and modified from NMC Map number 21726 by Map, Data and GIS Library, Brock University.
Name: EarlyNiagara/Chippawa1807NMC21726
Description: Historical map showing Chippawa Creek and the Military Reserve alongside several buildings. The shoreline and conditions of the Niagara River (i.e. course of raft and mill race) heading towards Bridgewater Mills (Fort Erie) are drawn. "McGill and Canby's Upper Boundary" and three other mill sites are noted.
Relief shown by shading.
Map date: 1807
Digital reproduction of map ( 33 x 85 cm.) in the Public Archives of Canada. National Map Collection. Library and Archives Canada.
Georeferenced and modified from NMC Map number 21726 by Map, Data and GIS Library, Brock University.
Single Fused Map Cache: false
Extent:
XMin: 657077.6084922223
YMin: 4769368.23336192
XMax: 659243.2397002223
YMax: 4770809.7489179205
Spatial Reference: 26917
(26917)
Initial Extent:
XMin: 657077.6084922223
YMin: 4769368.23336192
XMax: 659243.2397002223
YMax: 4770809.7489179205
Spatial Reference: 26917
(26917)
Full Extent:
XMin: 657077.6084922223
YMin: 4769368.23336192
XMax: 659243.2397002223
YMax: 4770809.7489179205
Spatial Reference: 26917
(26917)
Pixel Size X: 0.3950440000000011
Pixel Size Y: 0.3950440000000474
Band Count: 1
Pixel Type: U16
RasterFunction Infos: {"rasterFunctionInfos": [{
"name": "None",
"description": "",
"help": ""
}]}
Mensuration Capabilities: Basic
Has Histograms: true
Has Colormap: false
Has Multi Dimensions : false
Rendering Rule:
Min Scale: 0
Max Scale: 0
Copyright Text: ["Signed"]
Service Data Type: esriImageServiceDataTypeGeneric
Min Values: 15
Max Values: 255
Mean Values: 177.88593869405
Standard Deviation Values: 20.546241845744
Object ID Field:
Fields:
None
Default Mosaic Method: Center
Allowed Mosaic Methods:
SortField:
SortValue: null
Mosaic Operator: First
Default Compression Quality: 75
Default Resampling Method: Bilinear
Max Record Count: null
Max Image Height: 4100
Max Image Width: 15000
Max Download Image Count: null
Max Mosaic Image Count: null
Allow Raster Function: true
Allow Copy: true
Allow Analysis: true
Allow Compute TiePoints: false
Supports Statistics: false
Supports Advanced Queries: false
Use StandardizedQueries: true
Raster Type Infos:
Name: Raster Dataset
Description: Supports all ArcGIS Raster Datasets
Help:
Has Raster Attribute Table: false
Edit Fields Info: null
Ownership Based AccessControl For Rasters: null
Child Resources:
Info
Histograms
Statistics
Key Properties
Legend
Raster Function Infos
Supported Operations:
Export Image
Identify
Measure
Compute Histograms
Compute Statistics Histograms
Get Samples
Compute Class Statistics
Query Boundary
Compute Pixel Location
Compute Angles
Validate
Project