View In:
ArcGIS JavaScript
ArcGIS Online Map Viewer
ArcGIS Earth
ArcMap
View Footprint In:
ArcGIS Online Map Viewer
Service Description: Historical map showing the land reserved for the fort, barracks and stores at the entrance of the Chippewa Creek and the Niagara River.
Signed Gother Mann, "Licence of occupation" granted to Wm. Smith, 14 April 1819 signed by T. Ridout, Copy J.G.G. 16 April 1835 signed S.P. Hurd"
Relief shown by shading.
Digital reproduction of map (18 3/4 x 23 1/2 in.), in Library and Archives Canada
Georeferenced and modified from NMC Map number 3767, Library and Archives Canada.
Name: EarlyNiagara/Chippawa1819NMC3767
Description: Historical map showing the land reserved for the fort, barracks and stores at the entrance of the Chippewa Creek and the Niagara River.
Signed Gother Mann, "Licence of occupation" granted to Wm. Smith, 14 April 1819 signed by T. Ridout, Copy J.G.G. 16 April 1835 signed S.P. Hurd"
Relief shown by shading.
Digital reproduction of map (18 3/4 x 23 1/2 in.), in Library and Archives Canada
Georeferenced and modified from NMC Map number 3767, Library and Archives Canada.
Single Fused Map Cache: false
Extent:
XMin: -8800428.801782599
YMin: 5320906.307175925
XMax: -8799095.575810598
YMax: 5322161.972069925
Spatial Reference: 102100
(3857)
Initial Extent:
XMin: -8800428.801782599
YMin: 5320906.307175925
XMax: -8799095.575810598
YMax: 5322161.972069925
Spatial Reference: 102100
(3857)
Full Extent:
XMin: -8800428.801782599
YMin: 5320906.307175925
XMax: -8799095.575810598
YMax: 5322161.972069925
Spatial Reference: 102100
(3857)
Pixel Size X: 0.2576780000000985
Pixel Size Y: 0.25767799999993757
Band Count: 1
Pixel Type: U16
RasterFunction Infos: {"rasterFunctionInfos": [{
"name": "None",
"description": "",
"help": ""
}]}
Mensuration Capabilities: Basic
Has Histograms: true
Has Colormap: false
Has Multi Dimensions : false
Rendering Rule:
Min Scale: 0
Max Scale: 0
Copyright Text: Map, Data & GIS Library, Brock University.
Service Data Type: esriImageServiceDataTypeGeneric
Min Values: 0
Max Values: 255
Mean Values: 187.33867603069
Standard Deviation Values: 45.199991119329
Object ID Field:
Fields:
None
Default Mosaic Method: Center
Allowed Mosaic Methods:
SortField:
SortValue: null
Mosaic Operator: First
Default Compression Quality: 75
Default Resampling Method: Bilinear
Max Record Count: null
Max Image Height: 4100
Max Image Width: 15000
Max Download Image Count: null
Max Mosaic Image Count: null
Allow Raster Function: true
Allow Copy: true
Allow Analysis: true
Allow Compute TiePoints: false
Supports Statistics: false
Supports Advanced Queries: false
Use StandardizedQueries: true
Raster Type Infos:
Name: Raster Dataset
Description: Supports all ArcGIS Raster Datasets
Help:
Has Raster Attribute Table: false
Edit Fields Info: null
Ownership Based AccessControl For Rasters: null
Child Resources:
Info
Histograms
Statistics
Key Properties
Legend
Raster Function Infos
Supported Operations:
Export Image
Identify
Measure
Compute Histograms
Compute Statistics Histograms
Get Samples
Compute Class Statistics
Query Boundary
Compute Pixel Location
Compute Angles
Validate
Project