View In:
ArcGIS JavaScript
ArcGIS Online Map Viewer
ArcGIS Earth
ArcMap
View Footprint In:
ArcGIS Online Map Viewer
Service Description: Historical map showing the mouth of the Welland River at Chippawa and the surrounding lands. The Old Battery, Old Fort, Stone House, Jas. Cummings Esq. house, and military ground are indicated. The bridge (current and previous), roads, and cut are drawn. It includes a cross section of the canal (Welland River).
Digital reproduction of map 30 x 30 cm.) in the Public Archives of Canada. National Map Collection. Library and Archives Canada.
Relief shown by shading.
Georeferenced and modified from NMC Map number 5236 by Map, Data and GIS Library, Brock University.
Name: EarlyNiagara/Chippawa1829NMC5236
Description: Historical map showing the mouth of the Welland River at Chippawa and the surrounding lands. The Old Battery, Old Fort, Stone House, Jas. Cummings Esq. house, and military ground are indicated. The bridge (current and previous), roads, and cut are drawn. It includes a cross section of the canal (Welland River).
Digital reproduction of map 30 x 30 cm.) in the Public Archives of Canada. National Map Collection. Library and Archives Canada.
Relief shown by shading.
Georeferenced and modified from NMC Map number 5236 by Map, Data and GIS Library, Brock University.
Single Fused Map Cache: false
Extent:
XMin: 658362.9470879287
YMin: 4769130.046597732
XMax: 659563.2302034746
YMax: 4770169.985751705
Spatial Reference: 26917
(26917)
Initial Extent:
XMin: 658362.9470879287
YMin: 4769130.046597732
XMax: 659563.2302034746
YMax: 4770169.985751705
Spatial Reference: 26917
(26917)
Full Extent:
XMin: 658362.9470879287
YMin: 4769130.046597732
XMax: 659563.2302034746
YMax: 4770169.985751705
Spatial Reference: 26917
(26917)
Pixel Size X: 0.3000707788864966
Pixel Size Y: 0.2634091068827288
Band Count: 3
Pixel Type: U8
RasterFunction Infos: {"rasterFunctionInfos": [{
"name": "None",
"description": "",
"help": ""
}]}
Mensuration Capabilities: Basic
Has Histograms: false
Has Colormap: false
Has Multi Dimensions : false
Rendering Rule:
Min Scale: 0
Max Scale: 0
Copyright Text: Map, Data & GIS Library, Brock University.
Service Data Type: esriImageServiceDataTypeRGB
Min Values: N/A
Max Values: N/A
Mean Values: N/A
Standard Deviation Values: N/A
Object ID Field:
Fields:
None
Default Mosaic Method: Center
Allowed Mosaic Methods:
SortField:
SortValue: null
Mosaic Operator: First
Default Compression Quality: 75
Default Resampling Method: Bilinear
Max Record Count: null
Max Image Height: 4100
Max Image Width: 15000
Max Download Image Count: null
Max Mosaic Image Count: null
Allow Raster Function: true
Allow Copy: true
Allow Analysis: true
Allow Compute TiePoints: false
Supports Statistics: false
Supports Advanced Queries: false
Use StandardizedQueries: true
Raster Type Infos:
Name: Raster Dataset
Description: Supports all ArcGIS Raster Datasets
Help:
Has Raster Attribute Table: false
Edit Fields Info: null
Ownership Based AccessControl For Rasters: null
Child Resources:
Info
Statistics
Key Properties
Legend
Raster Function Infos
Supported Operations:
Export Image
Identify
Measure
Compute Histograms
Compute Statistics Histograms
Get Samples
Compute Class Statistics
Query Boundary
Compute Pixel Location
Compute Angles
Validate
Project