View In:
ArcGIS JavaScript
ArcGIS Online Map Viewer
ArcGIS Earth
ArcMap
View Footprint In:
ArcGIS Online Map Viewer
Service Description: Historical map showing the southern section of the Niagara Peninsula, towns, creeks, the First Welland Canal and roads with commentary on their conditions.
(Signed) R.J. Barou...(A true copy) F.A. Mackenzie Fraser
Digital reproduction of map in the Public Archives of Canada. National Map Collection. Library and Archives Canada.
Georeferenced and modified from NMC Map number 3007 by Map, Data and GIS Library, Brock University.
Name: EarlyNiagara/Chippewa1838NMC3007
Description: Historical map showing the southern section of the Niagara Peninsula, towns, creeks, the First Welland Canal and roads with commentary on their conditions.
(Signed) R.J. Barou...(A true copy) F.A. Mackenzie Fraser
Digital reproduction of map in the Public Archives of Canada. National Map Collection. Library and Archives Canada.
Georeferenced and modified from NMC Map number 3007 by Map, Data and GIS Library, Brock University.
Single Fused Map Cache: false
Extent:
XMin: 562400.2123629536
YMin: 4690511.931540285
XMax: 669117.5772429536
YMax: 4785200.274580285
Spatial Reference: 26917
(26917)
Initial Extent:
XMin: 562400.2123629536
YMin: 4690511.931540285
XMax: 669117.5772429536
YMax: 4785200.274580285
Spatial Reference: 26917
(26917)
Full Extent:
XMin: 562400.2123629536
YMin: 4690511.931540285
XMax: 669117.5772429536
YMax: 4785200.274580285
Spatial Reference: 26917
(26917)
Pixel Size X: 16.081580000000002
Pixel Size Y: 16.081579999999953
Band Count: 1
Pixel Type: U16
RasterFunction Infos: {"rasterFunctionInfos": [{
"name": "None",
"description": "",
"help": ""
}]}
Mensuration Capabilities: Basic
Has Histograms: true
Has Colormap: false
Has Multi Dimensions : false
Rendering Rule:
Min Scale: 0
Max Scale: 0
Copyright Text: Map, Data & GIS Library, Brock University.
Service Data Type: esriImageServiceDataTypeGeneric
Min Values: 25
Max Values: 232
Mean Values: 190.68376655697
Standard Deviation Values: 20.76504422926
Object ID Field:
Fields:
None
Default Mosaic Method: Center
Allowed Mosaic Methods:
SortField:
SortValue: null
Mosaic Operator: First
Default Compression Quality: 75
Default Resampling Method: Bilinear
Max Record Count: null
Max Image Height: 4100
Max Image Width: 15000
Max Download Image Count: null
Max Mosaic Image Count: null
Allow Raster Function: true
Allow Copy: true
Allow Analysis: true
Allow Compute TiePoints: false
Supports Statistics: false
Supports Advanced Queries: false
Use StandardizedQueries: true
Raster Type Infos:
Name: Raster Dataset
Description: Supports all ArcGIS Raster Datasets
Help:
Has Raster Attribute Table: false
Edit Fields Info: null
Ownership Based AccessControl For Rasters: null
Child Resources:
Info
Histograms
Statistics
Key Properties
Legend
Raster Function Infos
Supported Operations:
Export Image
Identify
Measure
Compute Histograms
Compute Statistics Histograms
Get Samples
Compute Class Statistics
Query Boundary
Compute Pixel Location
Compute Angles
Validate
Project