View In:
ArcGIS JavaScript
ArcGIS Online Map Viewer
ArcGIS Earth
ArcMap
View Footprint In:
ArcGIS Online Map Viewer
Service Description: Historical map showing the mouth of the Chippawa Creek at the Niagara River, the 'Chippewa Cut', Hog Island, the 'old fort' and 'barracades'
Scale [1:1,200] or 100 ft. to 1 in.
Map date: 1841
Digital reproduction of map (37 x 36 cm.) in the Public Archives of Canada. National Map Collection. Library and Archives Canada.
Georeferenced and modified from NMC Map number 3769 by Map, Data and GIS Library, Brock University.
Name: EarlyNiagara/Chippewa1841NMC3769
Description: Historical map showing the mouth of the Chippawa Creek at the Niagara River, the 'Chippewa Cut', Hog Island, the 'old fort' and 'barracades'
Scale [1:1,200] or 100 ft. to 1 in.
Map date: 1841
Digital reproduction of map (37 x 36 cm.) in the Public Archives of Canada. National Map Collection. Library and Archives Canada.
Georeferenced and modified from NMC Map number 3769 by Map, Data and GIS Library, Brock University.
Single Fused Map Cache: false
Extent:
XMin: 658570.8697855773
YMin: 4769254.923905326
XMax: 659255.5845235772
YMax: 4769916.936782326
Spatial Reference: 26917
(26917)
Initial Extent:
XMin: 658570.8697855773
YMin: 4769254.923905326
XMax: 659255.5845235772
YMax: 4769916.936782326
Spatial Reference: 26917
(26917)
Full Extent:
XMin: 658570.8697855773
YMin: 4769254.923905326
XMax: 659255.5845235772
YMax: 4769916.936782326
Spatial Reference: 26917
(26917)
Pixel Size X: 0.08315699999999411
Pixel Size Y: 0.08315699999994529
Band Count: 1
Pixel Type: U16
RasterFunction Infos: {"rasterFunctionInfos": [{
"name": "None",
"description": "",
"help": ""
}]}
Mensuration Capabilities: Basic
Has Histograms: true
Has Colormap: false
Has Multi Dimensions : false
Rendering Rule:
Min Scale: 0
Max Scale: 0
Copyright Text: ["signed"]
Service Data Type: esriImageServiceDataTypeGeneric
Min Values: 16
Max Values: 243
Mean Values: 168.51376087915
Standard Deviation Values: 17.320504693674
Object ID Field:
Fields:
None
Default Mosaic Method: Center
Allowed Mosaic Methods:
SortField:
SortValue: null
Mosaic Operator: First
Default Compression Quality: 75
Default Resampling Method: Bilinear
Max Record Count: null
Max Image Height: 4100
Max Image Width: 15000
Max Download Image Count: null
Max Mosaic Image Count: null
Allow Raster Function: true
Allow Copy: true
Allow Analysis: true
Allow Compute TiePoints: false
Supports Statistics: false
Supports Advanced Queries: false
Use StandardizedQueries: true
Raster Type Infos:
Name: Raster Dataset
Description: Supports all ArcGIS Raster Datasets
Help:
Has Raster Attribute Table: false
Edit Fields Info: null
Ownership Based AccessControl For Rasters: null
Child Resources:
Info
Histograms
Statistics
Key Properties
Legend
Raster Function Infos
Supported Operations:
Export Image
Identify
Measure
Compute Histograms
Compute Statistics Histograms
Get Samples
Compute Class Statistics
Query Boundary
Compute Pixel Location
Compute Angles
Validate
Project