View In:
ArcGIS JavaScript
ArcGIS Online Map Viewer
ArcGIS Earth
ArcMap
View Footprint In:
ArcGIS Online Map Viewer
Service Description: Historical map showing the First and Second Welland Canal where the Welland River (Chippewa Creek) joins the Niagara River, with the Chippewa cut and Hog Island. Includes buildings (barracks), and line of piles.
Map date: [1845]
Digital reproduction of map (16 x 20 1/2 in.) in the Public Archives of Canada. National Map Collection. Library and Archives Canada.
Georeferenced and modified from NMC Map number 3771 by Map, Data and GIS Library, Brock University.
Name: EarlyNiagara/Chippewa1845NMC3771
Description: Historical map showing the First and Second Welland Canal where the Welland River (Chippewa Creek) joins the Niagara River, with the Chippewa cut and Hog Island. Includes buildings (barracks), and line of piles.
Map date: [1845]
Digital reproduction of map (16 x 20 1/2 in.) in the Public Archives of Canada. National Map Collection. Library and Archives Canada.
Georeferenced and modified from NMC Map number 3771 by Map, Data and GIS Library, Brock University.
Single Fused Map Cache: false
Extent:
XMin: 658533.6103099766
YMin: 4769075.770937068
XMax: 659431.7987599766
YMax: 4770032.376998069
Spatial Reference: 26917
(26917)
Initial Extent:
XMin: 658533.6103099766
YMin: 4769075.770937068
XMax: 659431.7987599766
YMax: 4770032.376998069
Spatial Reference: 26917
(26917)
Full Extent:
XMin: 658533.6103099766
YMin: 4769075.770937068
XMax: 659431.7987599766
YMax: 4770032.376998069
Spatial Reference: 26917
(26917)
Pixel Size X: 0.14144700000000252
Pixel Size Y: 0.14144700000005572
Band Count: 1
Pixel Type: U16
RasterFunction Infos: {"rasterFunctionInfos": [{
"name": "None",
"description": "",
"help": ""
}]}
Mensuration Capabilities: Basic
Has Histograms: true
Has Colormap: false
Has Multi Dimensions : false
Rendering Rule:
Min Scale: 0
Max Scale: 0
Copyright Text: ["signed"]
Service Data Type: esriImageServiceDataTypeGeneric
Min Values: 13
Max Values: 247
Mean Values: 181.56188107929
Standard Deviation Values: 31.910385229723
Object ID Field:
Fields:
None
Default Mosaic Method: Center
Allowed Mosaic Methods:
SortField:
SortValue: null
Mosaic Operator: First
Default Compression Quality: 75
Default Resampling Method: Bilinear
Max Record Count: null
Max Image Height: 4100
Max Image Width: 15000
Max Download Image Count: null
Max Mosaic Image Count: null
Allow Raster Function: true
Allow Copy: true
Allow Analysis: true
Allow Compute TiePoints: false
Supports Statistics: false
Supports Advanced Queries: false
Use StandardizedQueries: true
Raster Type Infos:
Name: Raster Dataset
Description: Supports all ArcGIS Raster Datasets
Help:
Has Raster Attribute Table: false
Edit Fields Info: null
Ownership Based AccessControl For Rasters: null
Child Resources:
Info
Histograms
Statistics
Key Properties
Legend
Raster Function Infos
Supported Operations:
Export Image
Identify
Measure
Compute Histograms
Compute Statistics Histograms
Get Samples
Compute Class Statistics
Query Boundary
Compute Pixel Location
Compute Angles
Validate
Project