View In:
ArcGIS JavaScript
ArcGIS Online Map Viewer
ArcGIS Earth
ArcMap
View Footprint In:
ArcGIS Online Map Viewer
Service Description: Map date: 1968?
Digital reproduction of map (28 x 43 cm.) in the Brock University Map, Data & GIS Library collection.
Georeferenced and modified from Brock call # G 3463 W4 S1 1968 W45, by Map, Data and GIS Library, Brock University.
Name: EarlyNiagara/CountyofWelland1968
Description: Map date: 1968?
Digital reproduction of map (28 x 43 cm.) in the Brock University Map, Data & GIS Library collection.
Georeferenced and modified from Brock call # G 3463 W4 S1 1968 W45, by Map, Data and GIS Library, Brock University.
Single Fused Map Cache: false
Extent:
XMin: 607365.1852710375
YMin: 4739868.725218495
XMax: 673786.2585910375
YMax: 4787989.849542496
Spatial Reference: 26917
(26917)
Initial Extent:
XMin: 607365.1852710375
YMin: 4739868.725218495
XMax: 673786.2585910375
YMax: 4787989.849542496
Spatial Reference: 26917
(26917)
Full Extent:
XMin: 607365.1852710375
YMin: 4739868.725218495
XMax: 673786.2585910375
YMax: 4787989.849542496
Spatial Reference: 26917
(26917)
Pixel Size X: 6.505491999999997
Pixel Size Y: 6.50549200000006
Band Count: 3
Pixel Type: U16
RasterFunction Infos: {"rasterFunctionInfos": [{
"name": "None",
"description": "",
"help": ""
}]}
Mensuration Capabilities: Basic
Has Histograms: true
Has Colormap: false
Has Multi Dimensions : false
Rendering Rule:
Min Scale: 0
Max Scale: 0
Copyright Text: Map, Data & GIS Library, Brock University.
Service Data Type: esriImageServiceDataTypeGeneric
Min Values: 38, 36, 27
Max Values: 255, 255, 255
Mean Values: 196.39677140624, 186.50721196964, 150.13638843703
Standard Deviation Values: 33.189667519036, 32.5632191144, 31.569595566864
Object ID Field:
Fields:
None
Default Mosaic Method: Center
Allowed Mosaic Methods:
SortField:
SortValue: null
Mosaic Operator: First
Default Compression Quality: 75
Default Resampling Method: Bilinear
Max Record Count: null
Max Image Height: 4100
Max Image Width: 15000
Max Download Image Count: null
Max Mosaic Image Count: null
Allow Raster Function: true
Allow Copy: true
Allow Analysis: true
Allow Compute TiePoints: false
Supports Statistics: false
Supports Advanced Queries: false
Use StandardizedQueries: true
Raster Type Infos:
Name: Raster Dataset
Description: Supports all ArcGIS Raster Datasets
Help:
Has Raster Attribute Table: false
Edit Fields Info: null
Ownership Based AccessControl For Rasters: null
Child Resources:
Info
Histograms
Statistics
Key Properties
Legend
Raster Function Infos
Supported Operations:
Export Image
Identify
Measure
Compute Histograms
Compute Statistics Histograms
Get Samples
Compute Class Statistics
Query Boundary
Compute Pixel Location
Compute Angles
Validate
Project