View In:
ArcGIS JavaScript
ArcGIS Online Map Viewer
ArcGIS Earth
ArcMap
View Footprint In:
ArcGIS Online Map Viewer
Service Description: Historical map showing the village of Drummondville (now Niagara Falls) with its roads and buildings depicted. The references indicate building owners & uses and how it can be used by the military (i.e. hospital, accommodation of men and horses, etc).
Scale: 1 in to 100 yards
Map date: 1838
Digital reproduction of map (36 x 47 cm.) in the Public Archives of Canada. National Map Collection. Library and Archives Canada.
Georeferenced and modified from NMC Map number 3790 by Map, Data and GIS Library, Brock University.
Name: EarlyNiagara/Drummondville1838NMC3790
Description: Historical map showing the village of Drummondville (now Niagara Falls) with its roads and buildings depicted. The references indicate building owners & uses and how it can be used by the military (i.e. hospital, accommodation of men and horses, etc).
Scale: 1 in to 100 yards
Map date: 1838
Digital reproduction of map (36 x 47 cm.) in the Public Archives of Canada. National Map Collection. Library and Archives Canada.
Georeferenced and modified from NMC Map number 3790 by Map, Data and GIS Library, Brock University.
Single Fused Map Cache: false
Extent:
XMin: 654995.5731595418
YMin: 4770811.987999709
XMax: 656512.0208065418
YMax: 4772697.41887371
Spatial Reference: 26917
(26917)
Initial Extent:
XMin: 654995.5731595418
YMin: 4770811.987999709
XMax: 656512.0208065418
YMax: 4772697.41887371
Spatial Reference: 26917
(26917)
Full Extent:
XMin: 654995.5731595418
YMin: 4770811.987999709
XMax: 656512.0208065418
YMax: 4772697.41887371
Spatial Reference: 26917
(26917)
Pixel Size X: 0.27191099999999363
Pixel Size Y: 0.27191100000004376
Band Count: 1
Pixel Type: U16
RasterFunction Infos: {"rasterFunctionInfos": [{
"name": "None",
"description": "",
"help": ""
}]}
Mensuration Capabilities: Basic
Has Histograms: false
Has Colormap: false
Has Multi Dimensions : false
Rendering Rule:
Min Scale: 0
Max Scale: 0
Copyright Text: Signed: W.H. Roberts
Copied Richard Birley
Map, Data & GIS Library, Brock University.
Service Data Type: esriImageServiceDataTypeGeneric
Min Values: N/A
Max Values: N/A
Mean Values: N/A
Standard Deviation Values: N/A
Object ID Field:
Fields:
None
Default Mosaic Method: Center
Allowed Mosaic Methods:
SortField:
SortValue: null
Mosaic Operator: First
Default Compression Quality: 75
Default Resampling Method: Bilinear
Max Record Count: null
Max Image Height: 4100
Max Image Width: 15000
Max Download Image Count: null
Max Mosaic Image Count: null
Allow Raster Function: true
Allow Copy: true
Allow Analysis: true
Allow Compute TiePoints: false
Supports Statistics: false
Supports Advanced Queries: false
Use StandardizedQueries: true
Raster Type Infos:
Name: Raster Dataset
Description: Supports all ArcGIS Raster Datasets
Help:
Has Raster Attribute Table: false
Edit Fields Info: null
Ownership Based AccessControl For Rasters: null
Child Resources:
Info
Statistics
Key Properties
Legend
Raster Function Infos
Supported Operations:
Export Image
Identify
Measure
Compute Histograms
Compute Statistics Histograms
Get Samples
Compute Class Statistics
Query Boundary
Compute Pixel Location
Compute Angles
Validate
Project