View In:
ArcGIS JavaScript
ArcGIS Online Map Viewer
ArcGIS Earth
ArcMap
View Footprint In:
ArcGIS Online Map Viewer
Service Description: Map date: "June 2nd 1866" Scale [ca. 1:511,538] Digital reproduction of map (24 x 19 cm.) in the Brock University Map, Data & GIS Library collection. Georeferenced and modified from Brock call# G 3462 S68 S38 1866 W22 by Map, Data and GIS Library, Brock University.
Name: EarlyNiagara/FeniansCanada1866
Description: Map date: "June 2nd 1866" Scale [ca. 1:511,538] Digital reproduction of map (24 x 19 cm.) in the Brock University Map, Data & GIS Library collection. Georeferenced and modified from Brock call# G 3462 S68 S38 1866 W22 by Map, Data and GIS Library, Brock University.
Single Fused Map Cache: false
Extent:
XMin: -9008384.802333852
YMin: 5242230.739925565
XMax: -8715168.312743852
YMax: 5457144.442090565
Spatial Reference: 102100
(3857)
Initial Extent:
XMin: -9008384.802333852
YMin: 5242230.739925565
XMax: -8715168.312743852
YMax: 5457144.442090565
Spatial Reference: 102100
(3857)
Full Extent:
XMin: -9008384.802333852
YMin: 5242230.739925565
XMax: -8715168.312743852
YMax: 5457144.442090565
Spatial Reference: 102100
(3857)
Pixel Size X: 57.78803500000007
Pixel Size Y: 57.788035000000036
Band Count: 1
Pixel Type: U16
RasterFunction Infos: {"rasterFunctionInfos": [{
"name": "None",
"description": "",
"help": ""
}]}
Mensuration Capabilities: Basic
Has Histograms: true
Has Colormap: false
Has Multi Dimensions : false
Rendering Rule:
Min Scale: 0
Max Scale: 0
Copyright Text: Map, Data & GIS Library, Brock University.
Service Data Type: esriImageServiceDataTypeGeneric
Min Values: 0
Max Values: 255
Mean Values: 204.47738169809
Standard Deviation Values: 62.10820255956
Object ID Field:
Fields:
None
Default Mosaic Method: Center
Allowed Mosaic Methods:
SortField:
SortValue: null
Mosaic Operator: First
Default Compression Quality: 75
Default Resampling Method: Bilinear
Max Record Count: null
Max Image Height: 4100
Max Image Width: 15000
Max Download Image Count: null
Max Mosaic Image Count: null
Allow Raster Function: true
Allow Copy: true
Allow Analysis: true
Allow Compute TiePoints: false
Supports Statistics: false
Supports Advanced Queries: false
Use StandardizedQueries: true
Raster Type Infos:
Name: Raster Dataset
Description: Supports all ArcGIS Raster Datasets
Help:
Has Raster Attribute Table: false
Edit Fields Info: null
Ownership Based AccessControl For Rasters: null
Child Resources:
Info
Histograms
Statistics
Key Properties
Legend
Raster Function Infos
Supported Operations:
Export Image
Identify
Measure
Compute Histograms
Compute Statistics Histograms
Get Samples
Compute Class Statistics
Query Boundary
Compute Pixel Location
Compute Angles
Validate
Project