View In:
ArcGIS JavaScript
ArcGIS Online Map Viewer
ArcGIS Earth
ArcMap
View Footprint In:
ArcGIS Online Map Viewer
Service Description: Historical map showing buildings in the fort and a few other buildings. Names of some occupants of the lots are identified.
"(signed) Gother Mann, Quebec, 30 June 1798. By order of the Commander in Chief (signed) James Green. Approved (signed) Rob. Prescott."
Relief shown by shading.
Digital reproduction of map (16 3/4 x 20 1/2 in.) in Library and Archives Canada
Georeferenced and modified from NMC Map number 3800 by Map, Data & GIS Library, Brock University.
Name: EarlyNiagara/FortErie1798NMC3800
Description: Historical map showing buildings in the fort and a few other buildings. Names of some occupants of the lots are identified.
"(signed) Gother Mann, Quebec, 30 June 1798. By order of the Commander in Chief (signed) James Green. Approved (signed) Rob. Prescott."
Relief shown by shading.
Digital reproduction of map (16 3/4 x 20 1/2 in.) in Library and Archives Canada
Georeferenced and modified from NMC Map number 3800 by Map, Data & GIS Library, Brock University.
Single Fused Map Cache: false
Extent:
XMin: -8786225.798778435
YMin: 5294968.301264982
XMax: -8785412.261772435
YMax: 5295909.758204982
Spatial Reference: 102100
(3857)
Initial Extent:
XMin: -8786225.798778435
YMin: 5294968.301264982
XMax: -8785412.261772435
YMax: 5295909.758204982
Spatial Reference: 102100
(3857)
Full Extent:
XMin: -8786225.798778435
YMin: 5294968.301264982
XMax: -8785412.261772435
YMax: 5295909.758204982
Spatial Reference: 102100
(3857)
Pixel Size X: 0.21108900000001476
Pixel Size Y: 0.21108899999998776
Band Count: 1
Pixel Type: U16
RasterFunction Infos: {"rasterFunctionInfos": [{
"name": "None",
"description": "",
"help": ""
}]}
Mensuration Capabilities: Basic
Has Histograms: true
Has Colormap: false
Has Multi Dimensions : false
Rendering Rule:
Min Scale: 0
Max Scale: 0
Copyright Text: Map, Data & GIS Library, Brock University.
Service Data Type: esriImageServiceDataTypeGeneric
Min Values: 6
Max Values: 255
Mean Values: 171.427704557
Standard Deviation Values: 34.146626501659
Object ID Field:
Fields:
None
Default Mosaic Method: Center
Allowed Mosaic Methods:
SortField:
SortValue: null
Mosaic Operator: First
Default Compression Quality: 75
Default Resampling Method: Bilinear
Max Record Count: null
Max Image Height: 4100
Max Image Width: 15000
Max Download Image Count: null
Max Mosaic Image Count: null
Allow Raster Function: true
Allow Copy: true
Allow Analysis: true
Allow Compute TiePoints: false
Supports Statistics: false
Supports Advanced Queries: false
Use StandardizedQueries: true
Raster Type Infos:
Name: Raster Dataset
Description: Supports all ArcGIS Raster Datasets
Help:
Has Raster Attribute Table: false
Edit Fields Info: null
Ownership Based AccessControl For Rasters: null
Child Resources:
Info
Histograms
Statistics
Key Properties
Legend
Raster Function Infos
Supported Operations:
Export Image
Identify
Measure
Compute Histograms
Compute Statistics Histograms
Get Samples
Compute Class Statistics
Query Boundary
Compute Pixel Location
Compute Angles
Validate
Project