View In:
ArcGIS JavaScript
ArcGIS Online Map Viewer
ArcGIS Earth
ArcMap
View Footprint In:
ArcGIS Online Map Viewer
Service Description: Historical map showing the proposed and ruined fort, the wharf and the road to Chippewa and Niagara Falls.
Includes a cross-section of the new fortification.
Relief shown by shading.
Digital reproduction of map (19 1/2 x 14 1/2 in.) in the Public Archives of Canada. National Map Collection. Library and Archives Canada.
Georeferenced and modified from NMC Map number 3801 by Map, Data and GIS Library, Brock University.
Name: EarlyNiagara/FortErie1803NMC3801
Description: Historical map showing the proposed and ruined fort, the wharf and the road to Chippewa and Niagara Falls.
Includes a cross-section of the new fortification.
Relief shown by shading.
Digital reproduction of map (19 1/2 x 14 1/2 in.) in the Public Archives of Canada. National Map Collection. Library and Archives Canada.
Georeferenced and modified from NMC Map number 3801 by Map, Data and GIS Library, Brock University.
Single Fused Map Cache: false
Extent:
XMin: -8786118.489956668
YMin: 5294990.611905607
XMax: -8785215.201388668
YMax: 5296016.312867607
Spatial Reference: 102100
(3857)
Initial Extent:
XMin: -8786118.489956668
YMin: 5294990.611905607
XMax: -8785215.201388668
YMax: 5296016.312867607
Spatial Reference: 102100
(3857)
Full Extent:
XMin: -8786118.489956668
YMin: 5294990.611905607
XMax: -8785215.201388668
YMax: 5296016.312867607
Spatial Reference: 102100
(3857)
Pixel Size X: 0.2209609999998478
Pixel Size Y: 0.22096099999991278
Band Count: 1
Pixel Type: U16
RasterFunction Infos: {"rasterFunctionInfos": [{
"name": "None",
"description": "",
"help": ""
}]}
Mensuration Capabilities: Basic
Has Histograms: true
Has Colormap: false
Has Multi Dimensions : false
Rendering Rule:
Min Scale: 0
Max Scale: 0
Copyright Text: Map, Data & GIS Library, Brock University.
Service Data Type: esriImageServiceDataTypeGeneric
Min Values: 5
Max Values: 254
Mean Values: 181.34835837171
Standard Deviation Values: 48.788723710765
Object ID Field:
Fields:
None
Default Mosaic Method: Center
Allowed Mosaic Methods:
SortField:
SortValue: null
Mosaic Operator: First
Default Compression Quality: 75
Default Resampling Method: Bilinear
Max Record Count: null
Max Image Height: 4100
Max Image Width: 15000
Max Download Image Count: null
Max Mosaic Image Count: null
Allow Raster Function: true
Allow Copy: true
Allow Analysis: true
Allow Compute TiePoints: false
Supports Statistics: false
Supports Advanced Queries: false
Use StandardizedQueries: true
Raster Type Infos:
Name: Raster Dataset
Description: Supports all ArcGIS Raster Datasets
Help:
Has Raster Attribute Table: false
Edit Fields Info: null
Ownership Based AccessControl For Rasters: null
Child Resources:
Info
Histograms
Statistics
Key Properties
Legend
Raster Function Infos
Supported Operations:
Export Image
Identify
Measure
Compute Histograms
Compute Statistics Histograms
Get Samples
Compute Class Statistics
Query Boundary
Compute Pixel Location
Compute Angles
Validate
Project