View In:
ArcGIS JavaScript
ArcGIS Online Map Viewer
ArcGIS Earth
ArcMap
View Footprint In:
ArcGIS Online Map Viewer
Service Description: Historical map showing the area of the British camp, entrenchments, and fort in Fort Erie. Roads, cleared land and forested sections are depicted. Several distances from Black Rock (American side) to the British batteries are marked.
Relief shown by shading and hachures
Scale [1:5,400]. 150 yds to an inch
Map date: 1815
Digital reproduction of map (87 x 56 cm.) in the Public Archives of Canada. National Map Collection. Library and Archives Canada.
Georeferenced and modified from NMC Map number 22340 by Map, Data and GIS Library, Brock University.
Name: EarlyNiagara/FortErie1814NMC22340
Description: Historical map showing the area of the British camp, entrenchments, and fort in Fort Erie. Roads, cleared land and forested sections are depicted. Several distances from Black Rock (American side) to the British batteries are marked.
Relief shown by shading and hachures
Scale [1:5,400]. 150 yds to an inch
Map date: 1815
Digital reproduction of map (87 x 56 cm.) in the Public Archives of Canada. National Map Collection. Library and Archives Canada.
Georeferenced and modified from NMC Map number 22340 by Map, Data and GIS Library, Brock University.
Single Fused Map Cache: false
Extent:
XMin: 667241.217555559
YMin: 4749756.961332822
XMax: 670790.851021559
YMax: 4754481.122290823
Spatial Reference: 26917
(26917)
Initial Extent:
XMin: 667241.217555559
YMin: 4749756.961332822
XMax: 670790.851021559
YMax: 4754481.122290823
Spatial Reference: 26917
(26917)
Full Extent:
XMin: 667241.217555559
YMin: 4749756.961332822
XMax: 670790.851021559
YMax: 4754481.122290823
Spatial Reference: 26917
(26917)
Pixel Size X: 0.7443139999999937
Pixel Size Y: 0.7443140000000723
Band Count: 1
Pixel Type: U16
RasterFunction Infos: {"rasterFunctionInfos": [{
"name": "None",
"description": "",
"help": ""
}]}
Mensuration Capabilities: Basic
Has Histograms: true
Has Colormap: false
Has Multi Dimensions : false
Rendering Rule:
Min Scale: 0
Max Scale: 0
Copyright Text: ["Signed"]
Service Data Type: esriImageServiceDataTypeGeneric
Min Values: 19
Max Values: 255
Mean Values: 182.43936733609
Standard Deviation Values: 29.474158426126
Object ID Field:
Fields:
None
Default Mosaic Method: Center
Allowed Mosaic Methods:
SortField:
SortValue: null
Mosaic Operator: First
Default Compression Quality: 75
Default Resampling Method: Bilinear
Max Record Count: null
Max Image Height: 4100
Max Image Width: 15000
Max Download Image Count: null
Max Mosaic Image Count: null
Allow Raster Function: true
Allow Copy: true
Allow Analysis: true
Allow Compute TiePoints: false
Supports Statistics: false
Supports Advanced Queries: false
Use StandardizedQueries: true
Raster Type Infos:
Name: Raster Dataset
Description: Supports all ArcGIS Raster Datasets
Help:
Has Raster Attribute Table: false
Edit Fields Info: null
Ownership Based AccessControl For Rasters: null
Child Resources:
Info
Histograms
Statistics
Key Properties
Legend
Raster Function Infos
Supported Operations:
Export Image
Identify
Measure
Compute Histograms
Compute Statistics Histograms
Get Samples
Compute Class Statistics
Query Boundary
Compute Pixel Location
Compute Angles
Validate
Project