View In:
ArcGIS JavaScript
ArcGIS Online Map Viewer
ArcGIS Earth
ArcMap
View Footprint In:
ArcGIS Online Map Viewer
Service Description: Historical map showing Fort Erie as it was when taken by the Americans. It depicts additional works raised by the American Army, Major Buck's Rd, and roads cut by the British Army. It also shows entrenchments, fortifications, batteries and picquets on either side of the river; as well as, the position of troops.
Digital reproduction of map (59 x 50 cm.) in the Public Archives of Canada. National Map Collection. Library and Archives Canada.
Relief shown by shading and hachures
Georeferenced and modified from NMC Map number 22341 by Map, Data and GIS Library, Brock University.
Name: EarlyNiagara/FortErie1814NMC22341
Description: Historical map showing Fort Erie as it was when taken by the Americans. It depicts additional works raised by the American Army, Major Buck's Rd, and roads cut by the British Army. It also shows entrenchments, fortifications, batteries and picquets on either side of the river; as well as, the position of troops.
Digital reproduction of map (59 x 50 cm.) in the Public Archives of Canada. National Map Collection. Library and Archives Canada.
Relief shown by shading and hachures
Georeferenced and modified from NMC Map number 22341 by Map, Data and GIS Library, Brock University.
Single Fused Map Cache: false
Extent:
XMin: 667605.5934071763
YMin: 4749925.524766626
XMax: 671631.8025571763
YMax: 4753925.776576626
Spatial Reference: 26917
(26917)
Initial Extent:
XMin: 667605.5934071763
YMin: 4749925.524766626
XMax: 671631.8025571763
YMax: 4753925.776576626
Spatial Reference: 26917
(26917)
Full Extent:
XMin: 667605.5934071763
YMin: 4749925.524766626
XMax: 671631.8025571763
YMax: 4753925.776576626
Spatial Reference: 26917
(26917)
Pixel Size X: 0.5642900000000014
Pixel Size Y: 0.5642900000000393
Band Count: 1
Pixel Type: U16
RasterFunction Infos: {"rasterFunctionInfos": [{
"name": "None",
"description": "",
"help": ""
}]}
Mensuration Capabilities: Basic
Has Histograms: true
Has Colormap: false
Has Multi Dimensions : false
Rendering Rule:
Min Scale: 0
Max Scale: 0
Copyright Text: Copied from the original of Lieut [W.A.] Nesfield by Geo. D. Cranfield Map, Data & GIS Library, Brock University.
Service Data Type: esriImageServiceDataTypeGeneric
Min Values: 15
Max Values: 252
Mean Values: 177.82016011125
Standard Deviation Values: 31.246258166439
Object ID Field:
Fields:
None
Default Mosaic Method: Center
Allowed Mosaic Methods:
SortField:
SortValue: null
Mosaic Operator: First
Default Compression Quality: 75
Default Resampling Method: Bilinear
Max Record Count: null
Max Image Height: 4100
Max Image Width: 15000
Max Download Image Count: null
Max Mosaic Image Count: null
Allow Raster Function: true
Allow Copy: true
Allow Analysis: true
Allow Compute TiePoints: false
Supports Statistics: false
Supports Advanced Queries: false
Use StandardizedQueries: true
Raster Type Infos:
Name: Raster Dataset
Description: Supports all ArcGIS Raster Datasets
Help:
Has Raster Attribute Table: false
Edit Fields Info: null
Ownership Based AccessControl For Rasters: null
Child Resources:
Info
Histograms
Statistics
Key Properties
Legend
Raster Function Infos
Supported Operations:
Export Image
Identify
Measure
Compute Histograms
Compute Statistics Histograms
Get Samples
Compute Class Statistics
Query Boundary
Compute Pixel Location
Compute Angles
Validate
Project