View In:
ArcGIS JavaScript
ArcGIS Online Map Viewer
ArcGIS Earth
ArcMap
View Footprint In:
ArcGIS Online Map Viewer
Service Description: Historical map showing the fort and surrounding forrested area. Includes reference key index to: "Entrenchments thrown up by enemy around fort, abbatis by enemy and British, batteries, position of part of British Army, enemy's schooners"
Relief shown by hachures.
Scale [ca. 1:5,280]. 1 in. to 440 ft.
Map date: 1814
Digital reproduction of map (14 1/2 x 20 1/2 in.) in the Public Archives of Canada. National Map Collection. Library and Archives Canada.
Georeferenced and modified from NMC Map number 1814 by Map, Data and GIS Library, Brock University.
Name: EarlyNiagara/FortErie1814NMC3803
Description: Historical map showing the fort and surrounding forrested area. Includes reference key index to: "Entrenchments thrown up by enemy around fort, abbatis by enemy and British, batteries, position of part of British Army, enemy's schooners"
Relief shown by hachures.
Scale [ca. 1:5,280]. 1 in. to 440 ft.
Map date: 1814
Digital reproduction of map (14 1/2 x 20 1/2 in.) in the Public Archives of Canada. National Map Collection. Library and Archives Canada.
Georeferenced and modified from NMC Map number 1814 by Map, Data and GIS Library, Brock University.
Single Fused Map Cache: false
Extent:
XMin: 667952.4192609274
YMin: 4749752.676749276
XMax: 671200.6371429274
YMax: 4753499.021234276
Spatial Reference: 26917
(26917)
Initial Extent:
XMin: 667952.4192609274
YMin: 4749752.676749276
XMax: 671200.6371429274
YMax: 4753499.021234276
Spatial Reference: 26917
(26917)
Full Extent:
XMin: 667952.4192609274
YMin: 4749752.676749276
XMax: 671200.6371429274
YMax: 4753499.021234276
Spatial Reference: 26917
(26917)
Pixel Size X: 0.8315970000000067
Pixel Size Y: 0.8315969999999503
Band Count: 3
Pixel Type: U16
RasterFunction Infos: {"rasterFunctionInfos": [{
"name": "None",
"description": "",
"help": ""
}]}
Mensuration Capabilities: Basic
Has Histograms: true
Has Colormap: false
Has Multi Dimensions : false
Rendering Rule:
Min Scale: 0
Max Scale: 0
Copyright Text: Phillip Hughes
Map, Data & GIS Library, Brock University.
Service Data Type: esriImageServiceDataTypeGeneric
Min Values: 50, 32, 32
Max Values: 236, 235, 230
Mean Values: 211.08223019316, 201.29430619597, 179.85555431848
Standard Deviation Values: 12.857551191561, 19.607138323656, 30.666172202938
Object ID Field:
Fields:
None
Default Mosaic Method: Center
Allowed Mosaic Methods:
SortField:
SortValue: null
Mosaic Operator: First
Default Compression Quality: 75
Default Resampling Method: Bilinear
Max Record Count: null
Max Image Height: 4100
Max Image Width: 15000
Max Download Image Count: null
Max Mosaic Image Count: null
Allow Raster Function: true
Allow Copy: true
Allow Analysis: true
Allow Compute TiePoints: false
Supports Statistics: false
Supports Advanced Queries: false
Use StandardizedQueries: true
Raster Type Infos:
Name: Raster Dataset
Description: Supports all ArcGIS Raster Datasets
Help:
Has Raster Attribute Table: false
Edit Fields Info: null
Ownership Based AccessControl For Rasters: null
Child Resources:
Info
Histograms
Statistics
Key Properties
Legend
Raster Function Infos
Supported Operations:
Export Image
Identify
Measure
Compute Histograms
Compute Statistics Histograms
Get Samples
Compute Class Statistics
Query Boundary
Compute Pixel Location
Compute Angles
Validate
Project