View In:
ArcGIS JavaScript
ArcGIS Online Map Viewer
ArcGIS Earth
ArcMap
View Footprint In:
ArcGIS Online Map Viewer
Service Description: Historical map showing the area from Snake Hill past Fort Erie and the British lines to the headquarters of Lt Gen Drummond further north. The Indian camp, camp and artillery park, picquets, trails, and fortifications by the British are depicted. There is some detail of the American border and its military defenses.
Scale [1:7,200]. 1' to 200 yds.
Map date: 1814
Digital reproduction of map 61 x 49 cm.) in the Public Archives of Canada. National Map Collection. Library and Archives Canada.
Georeferenced and modified from NMC Map number 4857 by Map, Data and GIS Library, Brock University.
Name: EarlyNiagara/FortErie1814NMC4857
Description: Historical map showing the area from Snake Hill past Fort Erie and the British lines to the headquarters of Lt Gen Drummond further north. The Indian camp, camp and artillery park, picquets, trails, and fortifications by the British are depicted. There is some detail of the American border and its military defenses.
Scale [1:7,200]. 1' to 200 yds.
Map date: 1814
Digital reproduction of map 61 x 49 cm.) in the Public Archives of Canada. National Map Collection. Library and Archives Canada.
Georeferenced and modified from NMC Map number 4857 by Map, Data and GIS Library, Brock University.
Single Fused Map Cache: false
Extent:
XMin: 667602.3852488638
YMin: 4749659.721193096
XMax: 671964.9556408639
YMax: 4754227.839733096
Spatial Reference: 26917
(26917)
Initial Extent:
XMin: 667602.3852488638
YMin: 4749659.721193096
XMax: 671964.9556408639
YMax: 4754227.839733096
Spatial Reference: 26917
(26917)
Full Extent:
XMin: 667602.3852488638
YMin: 4749659.721193096
XMax: 671964.9556408639
YMax: 4754227.839733096
Spatial Reference: 26917
(26917)
Pixel Size X: 0.6874520000000036
Pixel Size Y: 0.6874520000000257
Band Count: 1
Pixel Type: U16
RasterFunction Infos: {"rasterFunctionInfos": [{
"name": "None",
"description": "",
"help": ""
}]}
Mensuration Capabilities: Basic
Has Histograms: true
Has Colormap: false
Has Multi Dimensions : false
Rendering Rule:
Min Scale: 0
Max Scale: 0
Copyright Text: ["Signed"]
Service Data Type: esriImageServiceDataTypeGeneric
Min Values: 10
Max Values: 255
Mean Values: 216.46753119884
Standard Deviation Values: 26.002925528042
Object ID Field:
Fields:
None
Default Mosaic Method: Center
Allowed Mosaic Methods:
SortField:
SortValue: null
Mosaic Operator: First
Default Compression Quality: 75
Default Resampling Method: Bilinear
Max Record Count: null
Max Image Height: 4100
Max Image Width: 15000
Max Download Image Count: null
Max Mosaic Image Count: null
Allow Raster Function: true
Allow Copy: true
Allow Analysis: true
Allow Compute TiePoints: false
Supports Statistics: false
Supports Advanced Queries: false
Use StandardizedQueries: true
Raster Type Infos:
Name: Raster Dataset
Description: Supports all ArcGIS Raster Datasets
Help:
Has Raster Attribute Table: false
Edit Fields Info: null
Ownership Based AccessControl For Rasters: null
Child Resources:
Info
Histograms
Statistics
Key Properties
Legend
Raster Function Infos
Supported Operations:
Export Image
Identify
Measure
Compute Histograms
Compute Statistics Histograms
Get Samples
Compute Class Statistics
Query Boundary
Compute Pixel Location
Compute Angles
Validate
Project