View In:
ArcGIS JavaScript
ArcGIS Online Map Viewer
ArcGIS Earth
ArcMap
View Footprint In:
ArcGIS Online Map Viewer
Service Description: Historical map showing fort and defences, roads, wooded areas, "line destroyed", Snake Hill.
The map of Fort Erie was enclosed in Romilly's letter to Lt Gen Drummond dated Chippawa 10 Nov 1814 in which he describes the conditions of the fortifications after the battle. It shows the state of fortifications, the lines destroyed and those left intact, the fort (old and new), location of Snake Hill, relief, forested areas, and roads.
Relief shown by hachures.
Scale [ca. 1:4,300]
Map date: 1814
Digital reproduction of map (20 x 32 cm.) in the Public Archives of Canada. National Map Collection. Library and Archives Canada.
Georeferenced and modified from NMC Map number 70956 by Map, Data and GIS Library, Brock University.
Name: EarlyNiagara/FortErie1814NMC70956
Description: Historical map showing fort and defences, roads, wooded areas, "line destroyed", Snake Hill.
The map of Fort Erie was enclosed in Romilly's letter to Lt Gen Drummond dated Chippawa 10 Nov 1814 in which he describes the conditions of the fortifications after the battle. It shows the state of fortifications, the lines destroyed and those left intact, the fort (old and new), location of Snake Hill, relief, forested areas, and roads.
Relief shown by hachures.
Scale [ca. 1:4,300]
Map date: 1814
Digital reproduction of map (20 x 32 cm.) in the Public Archives of Canada. National Map Collection. Library and Archives Canada.
Georeferenced and modified from NMC Map number 70956 by Map, Data and GIS Library, Brock University.
Single Fused Map Cache: false
Extent:
XMin: 668394.67294833
YMin: 4749798.919485293
XMax: 670293.96802133
YMax: 4751743.737399293
Spatial Reference: 26917
(26917)
Initial Extent:
XMin: 668394.67294833
YMin: 4749798.919485293
XMax: 670293.96802133
YMax: 4751743.737399293
Spatial Reference: 26917
(26917)
Full Extent:
XMin: 668394.67294833
YMin: 4749798.919485293
XMax: 670293.96802133
YMax: 4751743.737399293
Spatial Reference: 26917
(26917)
Pixel Size X: 0.34227700000000283
Pixel Size Y: 0.3422769999999615
Band Count: 1
Pixel Type: U16
RasterFunction Infos: {"rasterFunctionInfos": [{
"name": "None",
"description": "",
"help": ""
}]}
Mensuration Capabilities: Basic
Has Histograms: true
Has Colormap: false
Has Multi Dimensions : false
Rendering Rule:
Min Scale: 0
Max Scale: 0
Copyright Text: Samuel Romilly
Map, Data & GIS Library, Brock University.
Service Data Type: esriImageServiceDataTypeGeneric
Min Values: 2
Max Values: 255
Mean Values: 183.94233890614
Standard Deviation Values: 24.200046415523
Object ID Field:
Fields:
None
Default Mosaic Method: Center
Allowed Mosaic Methods:
SortField:
SortValue: null
Mosaic Operator: First
Default Compression Quality: 75
Default Resampling Method: Bilinear
Max Record Count: null
Max Image Height: 4100
Max Image Width: 15000
Max Download Image Count: null
Max Mosaic Image Count: null
Allow Raster Function: true
Allow Copy: true
Allow Analysis: true
Allow Compute TiePoints: false
Supports Statistics: false
Supports Advanced Queries: false
Use StandardizedQueries: true
Raster Type Infos:
Name: Raster Dataset
Description: Supports all ArcGIS Raster Datasets
Help:
Has Raster Attribute Table: false
Edit Fields Info: null
Ownership Based AccessControl For Rasters: null
Child Resources:
Info
Histograms
Statistics
Key Properties
Legend
Raster Function Infos
Supported Operations:
Export Image
Identify
Measure
Compute Histograms
Compute Statistics Histograms
Get Samples
Compute Class Statistics
Query Boundary
Compute Pixel Location
Compute Angles
Validate
Project