View In:
ArcGIS JavaScript
ArcGIS Online Map Viewer
ArcGIS Earth
ArcMap
View Footprint In:
ArcGIS Online Map Viewer
Service Description: Historical map showing Fort Erie and surrounding area including vegetation, relief, wharf and builidings.
"Royal Engineers' Drawing Room, Quebec. 31st Jan. 1818, A. Walpole, Rl. Engrs."--in bottom right corner.
Relief shown by hachures.
Scale [ca. 1:4,800]. 400 ft. = 1 in.
Map date: 1818
Digital reproduction of map (10 3/4 x 17 in.) in the Public Archives of Canada. National Map Collection. Library and Archives Canada.
Georeferenced and modified from NMC Map number 3804 by Map, Data and GIS Library, Brock University.
Name: EarlyNiagara/FortErie1818NMC3804
Description: Historical map showing Fort Erie and surrounding area including vegetation, relief, wharf and builidings.
"Royal Engineers' Drawing Room, Quebec. 31st Jan. 1818, A. Walpole, Rl. Engrs."--in bottom right corner.
Relief shown by hachures.
Scale [ca. 1:4,800]. 400 ft. = 1 in.
Map date: 1818
Digital reproduction of map (10 3/4 x 17 in.) in the Public Archives of Canada. National Map Collection. Library and Archives Canada.
Georeferenced and modified from NMC Map number 3804 by Map, Data and GIS Library, Brock University.
Single Fused Map Cache: false
Extent:
XMin: 667919.7497580689
YMin: 4750060.58418071
XMax: 670836.5826040689
YMax: 4752428.35108071
Spatial Reference: 26917
(26917)
Initial Extent:
XMin: 667919.7497580689
YMin: 4750060.58418071
XMax: 670836.5826040689
YMax: 4752428.35108071
Spatial Reference: 26917
(26917)
Full Extent:
XMin: 667919.7497580689
YMin: 4750060.58418071
XMax: 670836.5826040689
YMax: 4752428.35108071
Spatial Reference: 26917
(26917)
Pixel Size X: 0.6399369999999946
Pixel Size Y: 0.6399370000000439
Band Count: 1
Pixel Type: U16
RasterFunction Infos: {"rasterFunctionInfos": [{
"name": "None",
"description": "",
"help": ""
}]}
Mensuration Capabilities: Basic
Has Histograms: true
Has Colormap: false
Has Multi Dimensions : false
Rendering Rule:
Min Scale: 0
Max Scale: 0
Copyright Text: ["cartography by"]
Service Data Type: esriImageServiceDataTypeGeneric
Min Values: 0
Max Values: 255
Mean Values: 154.09193006971
Standard Deviation Values: 38.67943817085
Object ID Field:
Fields:
None
Default Mosaic Method: Center
Allowed Mosaic Methods:
SortField:
SortValue: null
Mosaic Operator: First
Default Compression Quality: 75
Default Resampling Method: Bilinear
Max Record Count: null
Max Image Height: 4100
Max Image Width: 15000
Max Download Image Count: null
Max Mosaic Image Count: null
Allow Raster Function: true
Allow Copy: true
Allow Analysis: true
Allow Compute TiePoints: false
Supports Statistics: false
Supports Advanced Queries: false
Use StandardizedQueries: true
Raster Type Infos:
Name: Raster Dataset
Description: Supports all ArcGIS Raster Datasets
Help:
Has Raster Attribute Table: false
Edit Fields Info: null
Ownership Based AccessControl For Rasters: null
Child Resources:
Info
Histograms
Statistics
Key Properties
Legend
Raster Function Infos
Supported Operations:
Export Image
Identify
Measure
Compute Histograms
Compute Statistics Histograms
Get Samples
Compute Class Statistics
Query Boundary
Compute Pixel Location
Compute Angles
Validate
Project