View In:
ArcGIS JavaScript
ArcGIS Online Map Viewer
ArcGIS Earth
ArcMap
View Footprint In:
ArcGIS Online Map Viewer
Service Description: Historical map showing ferry crossings, pier, canals, Fort Erie, US side indicates upper and lower village of Black Rock. Geographic coverage from Lake Erie to Squaw Island.
Digital reproduction of map (7 1/4 x 12 in.) in National Map Collection. Library and Archives Canada
Georeferenced and modified from NMC Map number 3173 by Map, Data & GIS Library, Brock University.
Name: EarlyNiagara/FortErie1829NMC3173
Description: Historical map showing ferry crossings, pier, canals, Fort Erie, US side indicates upper and lower village of Black Rock. Geographic coverage from Lake Erie to Squaw Island.
Digital reproduction of map (7 1/4 x 12 in.) in National Map Collection. Library and Archives Canada
Georeferenced and modified from NMC Map number 3173 by Map, Data & GIS Library, Brock University.
Single Fused Map Cache: false
Extent:
XMin: -8786455.640537813
YMin: 5292454.231356613
XMax: -8780547.149438813
YMax: 5302874.233329614
Spatial Reference: 102100
(3857)
Initial Extent:
XMin: -8786455.640537813
YMin: 5292454.231356613
XMax: -8780547.149438813
YMax: 5302874.233329614
Spatial Reference: 102100
(3857)
Full Extent:
XMin: -8786455.640537813
YMin: 5292454.231356613
XMax: -8780547.149438813
YMax: 5302874.233329614
Spatial Reference: 102100
(3857)
Pixel Size X: 2.9410109999999885
Pixel Size Y: 2.9410110000001004
Band Count: 1
Pixel Type: U16
RasterFunction Infos: {"rasterFunctionInfos": [{
"name": "None",
"description": "",
"help": ""
}]}
Mensuration Capabilities: Basic
Has Histograms: true
Has Colormap: false
Has Multi Dimensions : false
Rendering Rule:
Min Scale: 0
Max Scale: 0
Copyright Text: Map, Data & GIS Library, Brock University.
Service Data Type: esriImageServiceDataTypeGeneric
Min Values: 5
Max Values: 254
Mean Values: 183.94695073421
Standard Deviation Values: 45.054850573149
Object ID Field:
Fields:
None
Default Mosaic Method: Center
Allowed Mosaic Methods:
SortField:
SortValue: null
Mosaic Operator: First
Default Compression Quality: 75
Default Resampling Method: Bilinear
Max Record Count: null
Max Image Height: 4100
Max Image Width: 15000
Max Download Image Count: null
Max Mosaic Image Count: null
Allow Raster Function: true
Allow Copy: true
Allow Analysis: true
Allow Compute TiePoints: false
Supports Statistics: false
Supports Advanced Queries: false
Use StandardizedQueries: true
Raster Type Infos:
Name: Raster Dataset
Description: Supports all ArcGIS Raster Datasets
Help:
Has Raster Attribute Table: false
Edit Fields Info: null
Ownership Based AccessControl For Rasters: null
Child Resources:
Info
Histograms
Statistics
Key Properties
Legend
Raster Function Infos
Supported Operations:
Export Image
Identify
Measure
Compute Histograms
Compute Statistics Histograms
Get Samples
Compute Class Statistics
Query Boundary
Compute Pixel Location
Compute Angles
Validate
Project