View In:
ArcGIS JavaScript
ArcGIS Online Map Viewer
ArcGIS Earth
ArcMap
View Footprint In:
ArcGIS Online Map Viewer
Service Description: Historical map showing the Niagara River between Squaw Island [Grand Island] and Lake Erie, Fort Erie and Towsons Battery on Canadian side. On US side; Upper and Lower Village of Black Rock, canal from Buffalo Creek.
Relief shown by hachures.
Digital reproduction of map (7 1/4 x 12 in.) in the National Map Collection, Library and Archives Canada
Georeferenced and modified from NMC Map number 59331 by Map, Data & GIS Library, Brock University
Name: EarlyNiagara/FortErie1829NMC59331geo
Description: Historical map showing the Niagara River between Squaw Island [Grand Island] and Lake Erie, Fort Erie and Towsons Battery on Canadian side. On US side; Upper and Lower Village of Black Rock, canal from Buffalo Creek.
Relief shown by hachures.
Digital reproduction of map (7 1/4 x 12 in.) in the National Map Collection, Library and Archives Canada
Georeferenced and modified from NMC Map number 59331 by Map, Data & GIS Library, Brock University
Single Fused Map Cache: false
Extent:
XMin: -8787275.169989135
YMin: 5292001.315572092
XMax: -8779096.156189134
YMax: 5303617.383132093
Spatial Reference: 102100
(3857)
Initial Extent:
XMin: -8787275.169989135
YMin: 5292001.315572092
XMax: -8779096.156189134
YMax: 5303617.383132093
Spatial Reference: 102100
(3857)
Full Extent:
XMin: -8787275.169989135
YMin: 5292001.315572092
XMax: -8779096.156189134
YMax: 5303617.383132093
Spatial Reference: 102100
(3857)
Pixel Size X: 2.668520000000252
Pixel Size Y: 2.6685200000000795
Band Count: 1
Pixel Type: U16
RasterFunction Infos: {"rasterFunctionInfos": [{
"name": "None",
"description": "",
"help": ""
}]}
Mensuration Capabilities: Basic
Has Histograms: true
Has Colormap: false
Has Multi Dimensions : false
Rendering Rule:
Min Scale: 0
Max Scale: 0
Copyright Text: Map, Data & GIS Library, Brock University.
Service Data Type: esriImageServiceDataTypeGeneric
Min Values: 0
Max Values: 247
Mean Values: 172.96483123231
Standard Deviation Values: 47.937005749038
Object ID Field:
Fields:
None
Default Mosaic Method: Center
Allowed Mosaic Methods:
SortField:
SortValue: null
Mosaic Operator: First
Default Compression Quality: 75
Default Resampling Method: Bilinear
Max Record Count: null
Max Image Height: 4100
Max Image Width: 15000
Max Download Image Count: null
Max Mosaic Image Count: null
Allow Raster Function: true
Allow Copy: true
Allow Analysis: true
Allow Compute TiePoints: false
Supports Statistics: false
Supports Advanced Queries: false
Use StandardizedQueries: true
Raster Type Infos:
Name: Raster Dataset
Description: Supports all ArcGIS Raster Datasets
Help:
Has Raster Attribute Table: false
Edit Fields Info: null
Ownership Based AccessControl For Rasters: null
Child Resources:
Info
Histograms
Statistics
Key Properties
Legend
Raster Function Infos
Supported Operations:
Export Image
Identify
Measure
Compute Histograms
Compute Statistics Histograms
Get Samples
Compute Class Statistics
Query Boundary
Compute Pixel Location
Compute Angles
Validate
Project