View In:
ArcGIS JavaScript
ArcGIS Online Map Viewer
ArcGIS Earth
ArcMap
View Footprint In:
ArcGIS Online Map Viewer
Service Description: Historical map showing boundaries, buildings, roads, canals.
The canal with locks is shown close to the shore between Fort Erie and the village of Waterloo on Niagara R.; shows terrain, soundings, nature of river bottom, rapids, wharves. Fort Erie military reserve boundary and previous location for canal further north.
Includes cross section inset: Section of the line of canal as first laid out.
Relief shown by hachures.
Scale: 1 in to 400 ft
Map date: 1837?
Digital reproduction of map (67 x 99 cm.) in the Public Archives of Canada. National Map Collection. Library and Archives Canada.
Georeferenced and modified from NMC Map number 21731 by Map, Data and GIS Library, Brock University.
Name: EarlyNiagara/FortErie1837NMC21731
Description: Historical map showing boundaries, buildings, roads, canals.
The canal with locks is shown close to the shore between Fort Erie and the village of Waterloo on Niagara R.; shows terrain, soundings, nature of river bottom, rapids, wharves. Fort Erie military reserve boundary and previous location for canal further north.
Includes cross section inset: Section of the line of canal as first laid out.
Relief shown by hachures.
Scale: 1 in to 400 ft
Map date: 1837?
Digital reproduction of map (67 x 99 cm.) in the Public Archives of Canada. National Map Collection. Library and Archives Canada.
Georeferenced and modified from NMC Map number 21731 by Map, Data and GIS Library, Brock University.
Single Fused Map Cache: false
Extent:
XMin: 666067.2447298157
YMin: 4749441.56448136
XMax: 672724.9892338157
YMax: 4754459.87305536
Spatial Reference: 26917
(26917)
Initial Extent:
XMin: 666067.2447298157
YMin: 4749441.56448136
XMax: 672724.9892338157
YMax: 4754459.87305536
Spatial Reference: 26917
(26917)
Full Extent:
XMin: 666067.2447298157
YMin: 4749441.56448136
XMax: 672724.9892338157
YMax: 4754459.87305536
Spatial Reference: 26917
(26917)
Pixel Size X: 0.9615459999999919
Pixel Size Y: 0.9615460000000715
Band Count: 1
Pixel Type: U16
RasterFunction Infos: {"rasterFunctionInfos": [{
"name": "None",
"description": "",
"help": ""
}]}
Mensuration Capabilities: Basic
Has Histograms: true
Has Colormap: false
Has Multi Dimensions : false
Rendering Rule:
Min Scale: 0
Max Scale: 0
Copyright Text: Cartography by Thomas Roy.
Map, Data & GIS Library, Brock University.
Service Data Type: esriImageServiceDataTypeGeneric
Min Values: 7
Max Values: 250
Mean Values: 179.73245483604
Standard Deviation Values: 33.927416489233
Object ID Field:
Fields:
None
Default Mosaic Method: Center
Allowed Mosaic Methods:
SortField:
SortValue: null
Mosaic Operator: First
Default Compression Quality: 75
Default Resampling Method: Bilinear
Max Record Count: null
Max Image Height: 4100
Max Image Width: 15000
Max Download Image Count: null
Max Mosaic Image Count: null
Allow Raster Function: true
Allow Copy: true
Allow Analysis: true
Allow Compute TiePoints: false
Supports Statistics: false
Supports Advanced Queries: false
Use StandardizedQueries: true
Raster Type Infos:
Name: Raster Dataset
Description: Supports all ArcGIS Raster Datasets
Help:
Has Raster Attribute Table: false
Edit Fields Info: null
Ownership Based AccessControl For Rasters: null
Child Resources:
Info
Histograms
Statistics
Key Properties
Legend
Raster Function Infos
Supported Operations:
Export Image
Identify
Measure
Compute Histograms
Compute Statistics Histograms
Get Samples
Compute Class Statistics
Query Boundary
Compute Pixel Location
Compute Angles
Validate
Project