View In:
ArcGIS JavaScript
ArcGIS Online Map Viewer
ArcGIS Earth
ArcMap
View Footprint In:
ArcGIS Online Map Viewer
Service Description: Historical map showing a canal with locks close to the shore between Fort Erie and the Village of Waterloo on the Niagara River, soundings, terrain, rapids, wharves, Fort Erie military reserve boundary, and previous location for canal further north.
Includes cross section with title: "Section of the line of canal as originally laid out."
Relief shown by hachures.
Scale [ca. 1:8,888]
Map date: 1837
Digital reproduction of map (67 x 99 cm.) in the Public Archives of Canada. National Map Collection. Library and Archives Canada.
Georeferenced and modified from NMC Map number 21732 by Map, Data and GIS Library, Brock University.
Name: EarlyNiagara/FortErie1837NMC21732
Description: Historical map showing a canal with locks close to the shore between Fort Erie and the Village of Waterloo on the Niagara River, soundings, terrain, rapids, wharves, Fort Erie military reserve boundary, and previous location for canal further north.
Includes cross section with title: "Section of the line of canal as originally laid out."
Relief shown by hachures.
Scale [ca. 1:8,888]
Map date: 1837
Digital reproduction of map (67 x 99 cm.) in the Public Archives of Canada. National Map Collection. Library and Archives Canada.
Georeferenced and modified from NMC Map number 21732 by Map, Data and GIS Library, Brock University.
Single Fused Map Cache: false
Extent:
XMin: 668464.3032346952
YMin: 4750054.99725761
XMax: 671679.7894846952
YMax: 4754135.40270761
Spatial Reference: 26917
(26917)
Initial Extent:
XMin: 668464.3032346952
YMin: 4750054.99725761
XMax: 671679.7894846952
YMax: 4754135.40270761
Spatial Reference: 26917
(26917)
Full Extent:
XMin: 668464.3032346952
YMin: 4750054.99725761
XMax: 671679.7894846952
YMax: 4754135.40270761
Spatial Reference: 26917
(26917)
Pixel Size X: 0.6213499999999919
Pixel Size Y: 0.6213500000000651
Band Count: 1
Pixel Type: U16
RasterFunction Infos: {"rasterFunctionInfos": [{
"name": "None",
"description": "",
"help": ""
}]}
Mensuration Capabilities: Basic
Has Histograms: true
Has Colormap: false
Has Multi Dimensions : false
Rendering Rule:
Min Scale: 0
Max Scale: 0
Copyright Text: by Thos. Roy.
Map, Data & GIS Library, Brock University.
Service Data Type: esriImageServiceDataTypeGeneric
Min Values: 7
Max Values: 255
Mean Values: 168.3290401371
Standard Deviation Values: 26.829563041028
Object ID Field:
Fields:
None
Default Mosaic Method: Center
Allowed Mosaic Methods:
SortField:
SortValue: null
Mosaic Operator: First
Default Compression Quality: 75
Default Resampling Method: Bilinear
Max Record Count: null
Max Image Height: 4100
Max Image Width: 15000
Max Download Image Count: null
Max Mosaic Image Count: null
Allow Raster Function: true
Allow Copy: true
Allow Analysis: true
Allow Compute TiePoints: false
Supports Statistics: false
Supports Advanced Queries: false
Use StandardizedQueries: true
Raster Type Infos:
Name: Raster Dataset
Description: Supports all ArcGIS Raster Datasets
Help:
Has Raster Attribute Table: false
Edit Fields Info: null
Ownership Based AccessControl For Rasters: null
Child Resources:
Info
Histograms
Statistics
Key Properties
Legend
Raster Function Infos
Supported Operations:
Export Image
Identify
Measure
Compute Histograms
Compute Statistics Histograms
Get Samples
Compute Class Statistics
Query Boundary
Compute Pixel Location
Compute Angles
Validate
Project