View In:
ArcGIS JavaScript
ArcGIS Online Map Viewer
ArcGIS Earth
ArcMap
View Footprint In:
ArcGIS Online Map Viewer
Service Description: Historical map showing lots and concessions for part of Bertie Township and the Military Reserve. Niagara River, Squaw Island, and the shoreline of Buffalo are drawn. The location of Waterloo (Fort Erie) and Black Rock (Buffalo), forts, mill, and the Erie Canal are indicated.
Digital reproduction of map (30 x 39 cm.) in the Public Archives of Canada. National Map Collection. Library and Archives Canada.
Georeferenced and modified from NMC Map number 3811 by Map, Data and GIS Library, Brock University.
Name: EarlyNiagara/FortErie1850NMC3811
Description: Historical map showing lots and concessions for part of Bertie Township and the Military Reserve. Niagara River, Squaw Island, and the shoreline of Buffalo are drawn. The location of Waterloo (Fort Erie) and Black Rock (Buffalo), forts, mill, and the Erie Canal are indicated.
Digital reproduction of map (30 x 39 cm.) in the Public Archives of Canada. National Map Collection. Library and Archives Canada.
Georeferenced and modified from NMC Map number 3811 by Map, Data and GIS Library, Brock University.
Single Fused Map Cache: false
Extent:
XMin: 662321.7642427061
YMin: 4745231.807060049
XMax: 678543.9572077062
YMax: 4757761.937900049
Spatial Reference: 26917
(26917)
Initial Extent:
XMin: 662321.7642427061
YMin: 4745231.807060049
XMax: 678543.9572077062
YMax: 4757761.937900049
Spatial Reference: 26917
(26917)
Full Extent:
XMin: 662321.7642427061
YMin: 4745231.807060049
XMax: 678543.9572077062
YMax: 4757761.937900049
Spatial Reference: 26917
(26917)
Pixel Size X: 2.0800350000000067
Pixel Size Y: 2.080034999999961
Band Count: 1
Pixel Type: U16
RasterFunction Infos: {"rasterFunctionInfos": [{
"name": "None",
"description": "",
"help": ""
}]}
Mensuration Capabilities: Basic
Has Histograms: true
Has Colormap: false
Has Multi Dimensions : false
Rendering Rule:
Min Scale: 0
Max Scale: 0
Copyright Text: ["Signed"]
Service Data Type: esriImageServiceDataTypeGeneric
Min Values: 16
Max Values: 255
Mean Values: 193.55317278267
Standard Deviation Values: 21.8206192054
Object ID Field:
Fields:
None
Default Mosaic Method: Center
Allowed Mosaic Methods:
SortField:
SortValue: null
Mosaic Operator: First
Default Compression Quality: 75
Default Resampling Method: Bilinear
Max Record Count: null
Max Image Height: 4100
Max Image Width: 15000
Max Download Image Count: null
Max Mosaic Image Count: null
Allow Raster Function: true
Allow Copy: true
Allow Analysis: true
Allow Compute TiePoints: false
Supports Statistics: false
Supports Advanced Queries: false
Use StandardizedQueries: true
Raster Type Infos:
Name: Raster Dataset
Description: Supports all ArcGIS Raster Datasets
Help:
Has Raster Attribute Table: false
Edit Fields Info: null
Ownership Based AccessControl For Rasters: null
Child Resources:
Info
Histograms
Statistics
Key Properties
Legend
Raster Function Infos
Supported Operations:
Export Image
Identify
Measure
Compute Histograms
Compute Statistics Histograms
Get Samples
Compute Class Statistics
Query Boundary
Compute Pixel Location
Compute Angles
Validate
Project