View In:
ArcGIS JavaScript
ArcGIS Online Map Viewer
ArcGIS Earth
ArcMap
View Footprint In:
ArcGIS Online Map Viewer
Service Description: Historical map of Fort Erie showing buildings, lots, ruins of Fort Erie, proposed ship canal, planned railway depot and mill site.
"to accompany Captain Renwick's report dated 7th February, 1852."
"Land applied for by the Brantford & Buffalo Railroad Company coloured yellow and green 2368 feet in length. Line of proposed railroad marked in yellow across the reserve. Part coloured green applied for by Mr. Thomson for the purposes of extending his mill race & other improvements."
Digital reproduction of map (35 x 22 in.) in the Public Archives of Canada. National Map Collection. Library and Archives Canada.
Georeferenced and modified from NMC Map number 22344 by Map, Data and GIS Library, Brock University.
Name: EarlyNiagara/FortErie1852NMC22344
Description: Historical map of Fort Erie showing buildings, lots, ruins of Fort Erie, proposed ship canal, planned railway depot and mill site.
"to accompany Captain Renwick's report dated 7th February, 1852."
"Land applied for by the Brantford & Buffalo Railroad Company coloured yellow and green 2368 feet in length. Line of proposed railroad marked in yellow across the reserve. Part coloured green applied for by Mr. Thomson for the purposes of extending his mill race & other improvements."
Digital reproduction of map (35 x 22 in.) in the Public Archives of Canada. National Map Collection. Library and Archives Canada.
Georeferenced and modified from NMC Map number 22344 by Map, Data and GIS Library, Brock University.
Single Fused Map Cache: false
Extent:
XMin: -8787776.431144714
YMin: 5294162.099769555
XMax: -8783906.920516714
YMax: 5299890.400501555
Spatial Reference: 102100
(3857)
Initial Extent:
XMin: -8787776.431144714
YMin: 5294162.099769555
XMax: -8783906.920516714
YMax: 5299890.400501555
Spatial Reference: 102100
(3857)
Full Extent:
XMin: -8787776.431144714
YMin: 5294162.099769555
XMax: -8783906.920516714
YMax: 5299890.400501555
Spatial Reference: 102100
(3857)
Pixel Size X: 1.0477959999999733
Pixel Size Y: 1.0477959999999633
Band Count: 1
Pixel Type: U16
RasterFunction Infos: {"rasterFunctionInfos": [{
"name": "None",
"description": "",
"help": ""
}]}
Mensuration Capabilities: Basic
Has Histograms: true
Has Colormap: false
Has Multi Dimensions : false
Rendering Rule:
Min Scale: 0
Max Scale: 0
Copyright Text: Map, Data & GIS Library, Brock University.
Service Data Type: esriImageServiceDataTypeGeneric
Min Values: 26
Max Values: 254
Mean Values: 161.68866115284
Standard Deviation Values: 29.910152308121
Object ID Field:
Fields:
None
Default Mosaic Method: Center
Allowed Mosaic Methods:
SortField:
SortValue: null
Mosaic Operator: First
Default Compression Quality: 75
Default Resampling Method: Bilinear
Max Record Count: null
Max Image Height: 4100
Max Image Width: 15000
Max Download Image Count: null
Max Mosaic Image Count: null
Allow Raster Function: true
Allow Copy: true
Allow Analysis: true
Allow Compute TiePoints: false
Supports Statistics: false
Supports Advanced Queries: false
Use StandardizedQueries: true
Raster Type Infos:
Name: Raster Dataset
Description: Supports all ArcGIS Raster Datasets
Help:
Has Raster Attribute Table: false
Edit Fields Info: null
Ownership Based AccessControl For Rasters: null
Child Resources:
Info
Histograms
Statistics
Key Properties
Legend
Raster Function Infos
Supported Operations:
Export Image
Identify
Measure
Compute Histograms
Compute Statistics Histograms
Get Samples
Compute Class Statistics
Query Boundary
Compute Pixel Location
Compute Angles
Validate
Project