View In:
ArcGIS JavaScript
ArcGIS Online Map Viewer
ArcGIS Earth
ArcMap
View Footprint In:
ArcGIS Online Map Viewer
Service Description: Historical map showing ruins of old fort, ordnance and military reserve boundaries, Brantford and Buffalo railway line, lots 1 to 3, roads, wharf, buildings by the Niagara River.
Relief shown by hachures.
Digital reproduction of map (14 1/4 x 22 1/2 in.) in the Public Archives of Canada. National Map Collection. Library and Archives Canada.
Georeferenced and modified from NMC Map number 3812 by Map, Data & GIS Library, Brock University.
Name: EarlyNiagara/FortErie1853NMC3812
Description: Historical map showing ruins of old fort, ordnance and military reserve boundaries, Brantford and Buffalo railway line, lots 1 to 3, roads, wharf, buildings by the Niagara River.
Relief shown by hachures.
Digital reproduction of map (14 1/4 x 22 1/2 in.) in the Public Archives of Canada. National Map Collection. Library and Archives Canada.
Georeferenced and modified from NMC Map number 3812 by Map, Data & GIS Library, Brock University.
Single Fused Map Cache: false
Extent:
XMin: -8788179.349686604
YMin: 5293044.196815167
XMax: -8783373.051046604
YMax: 5300585.881199166
Spatial Reference: 102100
(3857)
Initial Extent:
XMin: -8788179.349686604
YMin: 5293044.196815167
XMax: -8783373.051046604
YMax: 5300585.881199166
Spatial Reference: 102100
(3857)
Full Extent:
XMin: -8788179.349686604
YMin: 5293044.196815167
XMax: -8783373.051046604
YMax: 5300585.881199166
Spatial Reference: 102100
(3857)
Pixel Size X: 1.648815999999898
Pixel Size Y: 1.648815999999903
Band Count: 1
Pixel Type: U16
RasterFunction Infos: {"rasterFunctionInfos": [{
"name": "None",
"description": "",
"help": ""
}]}
Mensuration Capabilities: Basic
Has Histograms: true
Has Colormap: false
Has Multi Dimensions : false
Rendering Rule:
Min Scale: 0
Max Scale: 0
Copyright Text: Map, Data & GIS Library, Brock University.
Service Data Type: esriImageServiceDataTypeGeneric
Min Values: 22
Max Values: 254
Mean Values: 145.42166519607
Standard Deviation Values: 20.334577522089
Object ID Field:
Fields:
None
Default Mosaic Method: Center
Allowed Mosaic Methods:
SortField:
SortValue: null
Mosaic Operator: First
Default Compression Quality: 75
Default Resampling Method: Bilinear
Max Record Count: null
Max Image Height: 4100
Max Image Width: 15000
Max Download Image Count: null
Max Mosaic Image Count: null
Allow Raster Function: true
Allow Copy: true
Allow Analysis: true
Allow Compute TiePoints: false
Supports Statistics: false
Supports Advanced Queries: false
Use StandardizedQueries: true
Raster Type Infos:
Name: Raster Dataset
Description: Supports all ArcGIS Raster Datasets
Help:
Has Raster Attribute Table: false
Edit Fields Info: null
Ownership Based AccessControl For Rasters: null
Child Resources:
Info
Histograms
Statistics
Key Properties
Legend
Raster Function Infos
Supported Operations:
Export Image
Identify
Measure
Compute Histograms
Compute Statistics Histograms
Get Samples
Compute Class Statistics
Query Boundary
Compute Pixel Location
Compute Angles
Validate
Project