View In:
ArcGIS JavaScript
ArcGIS Online Map Viewer
ArcGIS Earth
ArcMap
View Footprint In:
ArcGIS Online Map Viewer
Service Description: Historical map showing roads, harbours, bridges, canals (existing and proposed).
Digital reproduction of map (30 x 46 cm.) in the Public Archives of Canada. National Map Collection. Library and Archives Canada.
Depths shown by soundings.
Georeferenced and modified from NMC Map number 3171 by Map, Data and GIS Library, Brock University.
Name: EarlyNiagara/FortErie1858NMC3171
Description: Historical map showing roads, harbours, bridges, canals (existing and proposed).
Digital reproduction of map (30 x 46 cm.) in the Public Archives of Canada. National Map Collection. Library and Archives Canada.
Depths shown by soundings.
Georeferenced and modified from NMC Map number 3171 by Map, Data and GIS Library, Brock University.
Single Fused Map Cache: false
Extent:
XMin: 668174.4291238869
YMin: 4748818.105218782
XMax: 673011.8530738868
YMax: 4755858.190618782
Spatial Reference: 26917
(26917)
Initial Extent:
XMin: 668174.4291238869
YMin: 4748818.105218782
XMax: 673011.8530738868
YMax: 4755858.190618782
Spatial Reference: 26917
(26917)
Full Extent:
XMin: 668174.4291238869
YMin: 4748818.105218782
XMax: 673011.8530738868
YMax: 4755858.190618782
Spatial Reference: 26917
(26917)
Pixel Size X: 1.053904999999993
Pixel Size Y: 1.053905000000032
Band Count: 1
Pixel Type: U16
RasterFunction Infos: {"rasterFunctionInfos": [{
"name": "None",
"description": "",
"help": ""
}]}
Mensuration Capabilities: Basic
Has Histograms: true
Has Colormap: false
Has Multi Dimensions : false
Rendering Rule:
Min Scale: 0
Max Scale: 0
Copyright Text: ["Published by"]
Service Data Type: esriImageServiceDataTypeGeneric
Min Values: 19
Max Values: 238
Mean Values: 191.65196655416
Standard Deviation Values: 37.259686617258
Object ID Field:
Fields:
None
Default Mosaic Method: Center
Allowed Mosaic Methods:
SortField:
SortValue: null
Mosaic Operator: First
Default Compression Quality: 75
Default Resampling Method: Bilinear
Max Record Count: null
Max Image Height: 4100
Max Image Width: 15000
Max Download Image Count: null
Max Mosaic Image Count: null
Allow Raster Function: true
Allow Copy: true
Allow Analysis: true
Allow Compute TiePoints: false
Supports Statistics: false
Supports Advanced Queries: false
Use StandardizedQueries: true
Raster Type Infos:
Name: Raster Dataset
Description: Supports all ArcGIS Raster Datasets
Help:
Has Raster Attribute Table: false
Edit Fields Info: null
Ownership Based AccessControl For Rasters: null
Child Resources:
Info
Histograms
Statistics
Key Properties
Legend
Raster Function Infos
Supported Operations:
Export Image
Identify
Measure
Compute Histograms
Compute Statistics Histograms
Get Samples
Compute Class Statistics
Query Boundary
Compute Pixel Location
Compute Angles
Validate
Project