View In:
ArcGIS JavaScript
ArcGIS Online Map Viewer
ArcGIS Earth
ArcMap
View Footprint In:
ArcGIS Online Map Viewer
Service Description: Historical map showing the area near the Fort Erie reserve and the Niagara River; new and old ferry route from Black Rock on United States side. Includes buildings and land owners names. Eddy and current speeds on the Niagara River.
Alternate title: Bridgewater Mills 1807
Digital reproduction of map (26 x 42 cm.) in the Public Archives of Canada. National Map Collection. Library and Archives Canada.
Georeferenced and modified from NMC Map number 3177 by Map, Data and GIS Library, Brock University.
Name: EarlyNiagara/FortErieBridgewaterMills1807NMC3177
Description: Historical map showing the area near the Fort Erie reserve and the Niagara River; new and old ferry route from Black Rock on United States side. Includes buildings and land owners names. Eddy and current speeds on the Niagara River.
Alternate title: Bridgewater Mills 1807
Digital reproduction of map (26 x 42 cm.) in the Public Archives of Canada. National Map Collection. Library and Archives Canada.
Georeferenced and modified from NMC Map number 3177 by Map, Data and GIS Library, Brock University.
Single Fused Map Cache: false
Extent:
XMin: 669849.4428813412
YMin: 4751906.473407149
XMax: 671656.0093313413
YMax: 4754383.99258115
Spatial Reference: 26917
(26917)
Initial Extent:
XMin: 669849.4428813412
YMin: 4751906.473407149
XMax: 671656.0093313413
YMax: 4754383.99258115
Spatial Reference: 26917
(26917)
Full Extent:
XMin: 669849.4428813412
YMin: 4751906.473407149
XMax: 671656.0093313413
YMax: 4754383.99258115
Spatial Reference: 26917
(26917)
Pixel Size X: 0.4037020000000094
Pixel Size Y: 0.4037020000000405
Band Count: 1
Pixel Type: U16
RasterFunction Infos: {"rasterFunctionInfos": [{
"name": "None",
"description": "",
"help": ""
}]}
Mensuration Capabilities: Basic
Has Histograms: true
Has Colormap: false
Has Multi Dimensions : false
Rendering Rule:
Min Scale: 0
Max Scale: 0
Copyright Text: Map, Data & GIS Library, Brock University.
Service Data Type: esriImageServiceDataTypeGeneric
Min Values: 15
Max Values: 245
Mean Values: 194.49547723556
Standard Deviation Values: 27.330275027617
Object ID Field:
Fields:
None
Default Mosaic Method: Center
Allowed Mosaic Methods:
SortField:
SortValue: null
Mosaic Operator: First
Default Compression Quality: 75
Default Resampling Method: Bilinear
Max Record Count: null
Max Image Height: 4100
Max Image Width: 15000
Max Download Image Count: null
Max Mosaic Image Count: null
Allow Raster Function: true
Allow Copy: true
Allow Analysis: true
Allow Compute TiePoints: false
Supports Statistics: false
Supports Advanced Queries: false
Use StandardizedQueries: true
Raster Type Infos:
Name: Raster Dataset
Description: Supports all ArcGIS Raster Datasets
Help:
Has Raster Attribute Table: false
Edit Fields Info: null
Ownership Based AccessControl For Rasters: null
Child Resources:
Info
Histograms
Statistics
Key Properties
Legend
Raster Function Infos
Supported Operations:
Export Image
Identify
Measure
Compute Histograms
Compute Statistics Histograms
Get Samples
Compute Class Statistics
Query Boundary
Compute Pixel Location
Compute Angles
Validate
Project