View In:
ArcGIS JavaScript
ArcGIS Online Map Viewer
ArcGIS Earth
ArcMap
View Footprint In:
ArcGIS Online Map Viewer
Service Description: Historical map showing boundaries, roads, lot and concession numbers, transportation and geological features, legend.
"To accompany memoir, by M.Y. Williams."
Publication no.1714.
Scale: [ca. 1:253,000]
Map date: 1918.
Digital reproduction of map (57 x 68 cm.) in the Brock University Map, Data & GIS Library collection.
Georeferenced and modified from Brock call# G 3462 N53 C5 1918 G46 by Map, Data and GIS Library, Brock University.
Name: EarlyNiagara/GeologyNiagaraPeninsula1918
Description: Historical map showing boundaries, roads, lot and concession numbers, transportation and geological features, legend.
"To accompany memoir, by M.Y. Williams."
Publication no.1714.
Scale: [ca. 1:253,000]
Map date: 1918.
Digital reproduction of map (57 x 68 cm.) in the Brock University Map, Data & GIS Library collection.
Georeferenced and modified from Brock call# G 3462 N53 C5 1918 G46 by Map, Data and GIS Library, Brock University.
Single Fused Map Cache: false
Extent:
XMin: -8980324.339201305
YMin: 5246923.089078557
XMax: -8744831.907941304
YMax: 5451356.450530557
Spatial Reference: 102100
(3857)
Initial Extent:
XMin: -8980324.339201305
YMin: 5246923.089078557
XMax: -8744831.907941304
YMax: 5451356.450530557
Spatial Reference: 102100
(3857)
Full Extent:
XMin: -8980324.339201305
YMin: 5246923.089078557
XMax: -8744831.907941304
YMax: 5451356.450530557
Spatial Reference: 102100
(3857)
Pixel Size X: 14.568044000000057
Pixel Size Y: 14.568044000000015
Band Count: 3
Pixel Type: U16
RasterFunction Infos: {"rasterFunctionInfos": [{
"name": "None",
"description": "",
"help": ""
}]}
Mensuration Capabilities: Basic
Has Histograms: false
Has Colormap: false
Has Multi Dimensions : false
Rendering Rule:
Min Scale: 0
Max Scale: 0
Copyright Text: Published: Canada, Dept. of Mines, Geological Survey
Geographer and chief draughtsman: G.O. Senecal
Map, Data & GIS Library, Brock University.
Service Data Type: esriImageServiceDataTypeGeneric
Min Values: N/A
Max Values: N/A
Mean Values: N/A
Standard Deviation Values: N/A
Object ID Field:
Fields:
None
Default Mosaic Method: Center
Allowed Mosaic Methods:
SortField:
SortValue: null
Mosaic Operator: First
Default Compression Quality: 75
Default Resampling Method: Bilinear
Max Record Count: null
Max Image Height: 4100
Max Image Width: 15000
Max Download Image Count: null
Max Mosaic Image Count: null
Allow Raster Function: true
Allow Copy: true
Allow Analysis: true
Allow Compute TiePoints: false
Supports Statistics: false
Supports Advanced Queries: false
Use StandardizedQueries: true
Raster Type Infos:
Name: Raster Dataset
Description: Supports all ArcGIS Raster Datasets
Help:
Has Raster Attribute Table: false
Edit Fields Info: null
Ownership Based AccessControl For Rasters: null
Child Resources:
Info
Statistics
Key Properties
Legend
Raster Function Infos
Supported Operations:
Export Image
Identify
Measure
Compute Histograms
Compute Statistics Histograms
Get Samples
Compute Class Statistics
Query Boundary
Compute Pixel Location
Compute Angles
Validate
Project