View In:
ArcGIS JavaScript
ArcGIS Online Map Viewer
ArcGIS Earth
ArcMap
View Footprint In:
ArcGIS Online Map Viewer
Service Description: Historical map showing bondary and hydrological features, roads, lot and concession numbers, survey grids for all townships.
Note describes Welland Canal, some roads in Niagara District, villages not shown and notes on survey in Brantford area; description of electoral districts
Scale [1:158,400] or 200 chains to an inch
Map date 1845
Digital reproduction of map (81 x 106 cm.) in the Public Archives of Canada. National Map Collection. Library and Archives Canada.
Georeferenced and modified from NMC Map number 11225 by Map, Data and GIS Library, Brock University.
Name: EarlyNiagara/GoldenHorseshoe1845NMC11225
Description: Historical map showing bondary and hydrological features, roads, lot and concession numbers, survey grids for all townships.
Note describes Welland Canal, some roads in Niagara District, villages not shown and notes on survey in Brantford area; description of electoral districts
Scale [1:158,400] or 200 chains to an inch
Map date 1845
Digital reproduction of map (81 x 106 cm.) in the Public Archives of Canada. National Map Collection. Library and Archives Canada.
Georeferenced and modified from NMC Map number 11225 by Map, Data and GIS Library, Brock University.
Single Fused Map Cache: false
Extent:
XMin: 506826.47985619796
YMin: 4731682.598508742
XMax: 680950.060008198
YMax: 4866931.088988742
Spatial Reference: 26917
(26917)
Initial Extent:
XMin: 506826.47985619796
YMin: 4731682.598508742
XMax: 680950.060008198
YMax: 4866931.088988742
Spatial Reference: 26917
(26917)
Full Extent:
XMin: 506826.47985619796
YMin: 4731682.598508742
XMax: 680950.060008198
YMax: 4866931.088988742
Spatial Reference: 26917
(26917)
Pixel Size X: 23.603576000000007
Pixel Size Y: 23.603576000000025
Band Count: 1
Pixel Type: U16
RasterFunction Infos: {"rasterFunctionInfos": [{
"name": "None",
"description": "",
"help": ""
}]}
Mensuration Capabilities: Basic
Has Histograms: true
Has Colormap: false
Has Multi Dimensions : false
Rendering Rule:
Min Scale: 0
Max Scale: 0
Copyright Text: by C. Rankin
Publisher: Hall & Mooney
Map, Data & GIS Library, Brock University.
Service Data Type: esriImageServiceDataTypeGeneric
Min Values: 21
Max Values: 241
Mean Values: 153.44055502304
Standard Deviation Values: 39.880865990431
Object ID Field:
Fields:
None
Default Mosaic Method: Center
Allowed Mosaic Methods:
SortField:
SortValue: null
Mosaic Operator: First
Default Compression Quality: 75
Default Resampling Method: Bilinear
Max Record Count: null
Max Image Height: 4100
Max Image Width: 15000
Max Download Image Count: null
Max Mosaic Image Count: null
Allow Raster Function: true
Allow Copy: true
Allow Analysis: true
Allow Compute TiePoints: false
Supports Statistics: false
Supports Advanced Queries: false
Use StandardizedQueries: true
Raster Type Infos:
Name: Raster Dataset
Description: Supports all ArcGIS Raster Datasets
Help:
Has Raster Attribute Table: false
Edit Fields Info: null
Ownership Based AccessControl For Rasters: null
Child Resources:
Info
Histograms
Statistics
Key Properties
Legend
Raster Function Infos
Supported Operations:
Export Image
Identify
Measure
Compute Histograms
Compute Statistics Histograms
Get Samples
Compute Class Statistics
Query Boundary
Compute Pixel Location
Compute Angles
Validate
Project