View In:
ArcGIS JavaScript
ArcGIS Online Map Viewer
ArcGIS Earth
ArcMap
View Footprint In:
ArcGIS Online Map Viewer
Service Description: Map date: 1815? Scale [ca. 1:180,000] Oriented with north to the bottom. Watermark: 'J Bates 1812 'Relief shown by hachures.' Map of Grand River & c. Map of River Niagara & c. & c.'' - title used in 'Mapping Upper Canada 1780-1867' / Joan Winearls Digital reproduction of map (33 x 80 cm) in the Brock University Map, Data & GIS Library collection. Georeferenced and modified from Brock call# G 3462 N53 1815 M37 by Map, Data and GIS Library, Brock University.
Name: EarlyNiagara/GrandRiverNiagaraPart1
Description: Map date: 1815? Scale [ca. 1:180,000] Oriented with north to the bottom. Watermark: 'J Bates 1812 'Relief shown by hachures.' Map of Grand River & c. Map of River Niagara & c. & c.'' - title used in 'Mapping Upper Canada 1780-1867' / Joan Winearls Digital reproduction of map (33 x 80 cm) in the Brock University Map, Data & GIS Library collection. Georeferenced and modified from Brock call# G 3462 N53 1815 M37 by Map, Data and GIS Library, Brock University.
Single Fused Map Cache: false
Extent:
XMin: -8887457.85937036
YMin: 5284168.788238139
XMax: -8776022.35959436
YMax: 5372006.721244139
Spatial Reference: 102100
(3857)
Initial Extent:
XMin: -8887457.85937036
YMin: 5284168.788238139
XMax: -8776022.35959436
YMax: 5372006.721244139
Spatial Reference: 102100
(3857)
Full Extent:
XMin: -8887457.85937036
YMin: 5284168.788238139
XMax: -8776022.35959436
YMax: 5372006.721244139
Spatial Reference: 102100
(3857)
Pixel Size X: 22.910259000000032
Pixel Size Y: 22.91025899999994
Band Count: 1
Pixel Type: U16
RasterFunction Infos: {"rasterFunctionInfos": [{
"name": "None",
"description": "",
"help": ""
}]}
Mensuration Capabilities: Basic
Has Histograms: true
Has Colormap: false
Has Multi Dimensions : false
Rendering Rule:
Min Scale: 0
Max Scale: 0
Copyright Text: Map, Data & GIS Library, Brock University.
Service Data Type: esriImageServiceDataTypeGeneric
Min Values: 39
Max Values: 254
Mean Values: 228.53390403598
Standard Deviation Values: 27.213653196234
Object ID Field:
Fields:
None
Default Mosaic Method: Center
Allowed Mosaic Methods:
SortField:
SortValue: null
Mosaic Operator: First
Default Compression Quality: 75
Default Resampling Method: Bilinear
Max Record Count: null
Max Image Height: 4100
Max Image Width: 15000
Max Download Image Count: null
Max Mosaic Image Count: null
Allow Raster Function: true
Allow Copy: true
Allow Analysis: true
Allow Compute TiePoints: false
Supports Statistics: false
Supports Advanced Queries: false
Use StandardizedQueries: true
Raster Type Infos:
Name: Raster Dataset
Description: Supports all ArcGIS Raster Datasets
Help:
Has Raster Attribute Table: false
Edit Fields Info: null
Ownership Based AccessControl For Rasters: null
Child Resources:
Info
Histograms
Statistics
Key Properties
Legend
Raster Function Infos
Supported Operations:
Export Image
Identify
Measure
Compute Histograms
Compute Statistics Histograms
Get Samples
Compute Class Statistics
Query Boundary
Compute Pixel Location
Compute Angles
Validate
Project