View In:
ArcGIS JavaScript
ArcGIS Online Map Viewer
ArcGIS Earth
ArcMap
View Footprint In:
ArcGIS Online Map Viewer
Service Description: Historical map showing the names of land owners, concession and lot numbers, notes.
Copied from an original by Charles Chambers and Samuel Holland ; Signed Augustus Jones, 25th October 1791.
"Map #9" in margin.
Digital reproduction of map (33 x 49 cm.) in the Archives of Ontario.
Georeferenced and modified from Brock call# G 3464 G73 G46 1791 G73, by Map, Data and GIS Library, Brock University.
Name: EarlyNiagara/Grantham1791
Description: Historical map showing the names of land owners, concession and lot numbers, notes.
Copied from an original by Charles Chambers and Samuel Holland ; Signed Augustus Jones, 25th October 1791.
"Map #9" in margin.
Digital reproduction of map (33 x 49 cm.) in the Archives of Ontario.
Georeferenced and modified from Brock call# G 3464 G73 G46 1791 G73, by Map, Data and GIS Library, Brock University.
Single Fused Map Cache: false
Extent:
XMin: 639064.2011564854
YMin: 4773695.462632164
XMax: 650498.5329884854
YMax: 4791403.037308164
Spatial Reference: 26917
(26917)
Initial Extent:
XMin: 639064.2011564854
YMin: 4773695.462632164
XMax: 650498.5329884854
YMax: 4791403.037308164
Spatial Reference: 26917
(26917)
Full Extent:
XMin: 639064.2011564854
YMin: 4773695.462632164
XMax: 650498.5329884854
YMax: 4791403.037308164
Spatial Reference: 26917
(26917)
Pixel Size X: 2.896234000000014
Pixel Size Y: 2.896233999999932
Band Count: 3
Pixel Type: U16
RasterFunction Infos: {"rasterFunctionInfos": [{
"name": "None",
"description": "",
"help": ""
}]}
Mensuration Capabilities: Basic
Has Histograms: true
Has Colormap: false
Has Multi Dimensions : false
Rendering Rule:
Min Scale: 0
Max Scale: 0
Copyright Text: Map, Data & GIS Library, Brock University.
Service Data Type: esriImageServiceDataTypeGeneric
Min Values: 5, 0, 1
Max Values: 245, 227, 189
Mean Values: 183.68117472645, 157.53325197644, 116.28079942848
Standard Deviation Values: 24.145853505998, 25.251290149021, 22.272407109218
Object ID Field:
Fields:
None
Default Mosaic Method: Center
Allowed Mosaic Methods:
SortField:
SortValue: null
Mosaic Operator: First
Default Compression Quality: 75
Default Resampling Method: Bilinear
Max Record Count: null
Max Image Height: 4100
Max Image Width: 15000
Max Download Image Count: null
Max Mosaic Image Count: null
Allow Raster Function: true
Allow Copy: true
Allow Analysis: true
Allow Compute TiePoints: false
Supports Statistics: false
Supports Advanced Queries: false
Use StandardizedQueries: true
Raster Type Infos:
Name: Raster Dataset
Description: Supports all ArcGIS Raster Datasets
Help:
Has Raster Attribute Table: false
Edit Fields Info: null
Ownership Based AccessControl For Rasters: null
Child Resources:
Info
Histograms
Statistics
Key Properties
Legend
Raster Function Infos
Supported Operations:
Export Image
Identify
Measure
Compute Histograms
Compute Statistics Histograms
Get Samples
Compute Class Statistics
Query Boundary
Compute Pixel Location
Compute Angles
Validate
Project