View In:
ArcGIS JavaScript
ArcGIS Online Map Viewer
ArcGIS Earth
ArcMap
View Footprint In:
ArcGIS Online Map Viewer
Service Description: Map date: 1811
Scale [ca. 1:31,680]
"A.12"
Digital reproduction of map (31 x 51 cm.) in the Brock University Map, Data & GIS Library.
Georeferenced and modified from negative version map, from Brock call # G 3464 G73 G46 1811 G73, by Map, Data and GIS Library, Brock University.
Name: EarlyNiagara/Grantham_1811geo
Description: Map date: 1811
Scale [ca. 1:31,680]
"A.12"
Digital reproduction of map (31 x 51 cm.) in the Brock University Map, Data & GIS Library.
Georeferenced and modified from negative version map, from Brock call # G 3464 G73 G46 1811 G73, by Map, Data and GIS Library, Brock University.
Single Fused Map Cache: false
Extent:
XMin: -8828418.813435992
YMin: 5324700.8620590875
XMax: -8808963.532051992
YMax: 5354562.3587240875
Spatial Reference: 102100
(3857)
Initial Extent:
XMin: -8828418.813435992
YMin: 5324700.8620590875
XMax: -8808963.532051992
YMax: 5354562.3587240875
Spatial Reference: 102100
(3857)
Full Extent:
XMin: -8828418.813435992
YMin: 5324700.8620590875
XMax: -8808963.532051992
YMax: 5354562.3587240875
Spatial Reference: 102100
(3857)
Pixel Size X: 4.21474900000012
Pixel Size Y: 4.214748999999998
Band Count: 3
Pixel Type: U16
RasterFunction Infos: {"rasterFunctionInfos": [{
"name": "None",
"description": "",
"help": ""
}]}
Mensuration Capabilities: Basic
Has Histograms: true
Has Colormap: false
Has Multi Dimensions : false
Rendering Rule:
Min Scale: 0
Max Scale: 0
Copyright Text: ["signed"]
Service Data Type: esriImageServiceDataTypeGeneric
Min Values: 41, 41, 41
Max Values: 218, 218, 218
Mean Values: 190.47136413169, 191.3006342718, 192.3258639471
Standard Deviation Values: 52.15122684359, 50.694328758764, 48.707608915608
Object ID Field:
Fields:
None
Default Mosaic Method: Center
Allowed Mosaic Methods:
SortField:
SortValue: null
Mosaic Operator: First
Default Compression Quality: 75
Default Resampling Method: Bilinear
Max Record Count: null
Max Image Height: 4100
Max Image Width: 15000
Max Download Image Count: null
Max Mosaic Image Count: null
Allow Raster Function: true
Allow Copy: true
Allow Analysis: true
Allow Compute TiePoints: false
Supports Statistics: false
Supports Advanced Queries: false
Use StandardizedQueries: true
Raster Type Infos:
Name: Raster Dataset
Description: Supports all ArcGIS Raster Datasets
Help:
Has Raster Attribute Table: false
Edit Fields Info: null
Ownership Based AccessControl For Rasters: null
Child Resources:
Info
Histograms
Statistics
Key Properties
Legend
Raster Function Infos
Supported Operations:
Export Image
Identify
Measure
Compute Histograms
Compute Statistics Histograms
Get Samples
Compute Class Statistics
Query Boundary
Compute Pixel Location
Compute Angles
Validate
Project