View In:
ArcGIS JavaScript
ArcGIS Online Map Viewer
ArcGIS Earth
ArcMap
View Footprint In:
ArcGIS Online Map Viewer
Service Description: Historical map showing lot and concession numbers with surveyors' names.
"Show conflicting survey lines in cons VII, VIII, and IX, and gore between cons VII and VIII ; locations of Hambly's, McDonnel's and Rykert's lines"--Mapping Upper Canada 1780-1876 / by Joan Winerals.
Digital reproduction of map (12 1/4 x 22 in.) in the Public Archives of Canada. National Map Collection. Library and Archives Canada.
Georeferenced and modified from NMC Map number 3622 by Map, Data and GIS Library, Brock University.
Name: EarlyNiagara/Grimsby1858NMC3622
Description: Historical map showing lot and concession numbers with surveyors' names.
"Show conflicting survey lines in cons VII, VIII, and IX, and gore between cons VII and VIII ; locations of Hambly's, McDonnel's and Rykert's lines"--Mapping Upper Canada 1780-1876 / by Joan Winerals.
Digital reproduction of map (12 1/4 x 22 in.) in the Public Archives of Canada. National Map Collection. Library and Archives Canada.
Georeferenced and modified from NMC Map number 3622 by Map, Data and GIS Library, Brock University.
Single Fused Map Cache: false
Extent:
XMin: 604267.0361168442
YMin: 4768787.7232855605
XMax: 625549.2288668442
YMax: 4784237.19200056
Spatial Reference: 26917
(26917)
Initial Extent:
XMin: 604267.0361168442
YMin: 4768787.7232855605
XMax: 625549.2288668442
YMax: 4784237.19200056
Spatial Reference: 26917
(26917)
Full Extent:
XMin: 604267.0361168442
YMin: 4768787.7232855605
XMax: 625549.2288668442
YMax: 4784237.19200056
Spatial Reference: 26917
(26917)
Pixel Size X: 4.67740500000001
Pixel Size Y: 4.67740499999999
Band Count: 1
Pixel Type: U16
RasterFunction Infos: {"rasterFunctionInfos": [{
"name": "None",
"description": "",
"help": ""
}]}
Mensuration Capabilities: Basic
Has Histograms: true
Has Colormap: false
Has Multi Dimensions : false
Rendering Rule:
Min Scale: 0
Max Scale: 0
Copyright Text: Map, Data & GIS Library, Brock University.
Service Data Type: esriImageServiceDataTypeGeneric
Min Values: 20
Max Values: 255
Mean Values: 211.35198523066
Standard Deviation Values: 31.375825964344
Object ID Field:
Fields:
None
Default Mosaic Method: Center
Allowed Mosaic Methods:
SortField:
SortValue: null
Mosaic Operator: First
Default Compression Quality: 75
Default Resampling Method: Bilinear
Max Record Count: null
Max Image Height: 4100
Max Image Width: 15000
Max Download Image Count: null
Max Mosaic Image Count: null
Allow Raster Function: true
Allow Copy: true
Allow Analysis: true
Allow Compute TiePoints: false
Supports Statistics: false
Supports Advanced Queries: false
Use StandardizedQueries: true
Raster Type Infos:
Name: Raster Dataset
Description: Supports all ArcGIS Raster Datasets
Help:
Has Raster Attribute Table: false
Edit Fields Info: null
Ownership Based AccessControl For Rasters: null
Child Resources:
Info
Histograms
Statistics
Key Properties
Legend
Raster Function Infos
Supported Operations:
Export Image
Identify
Measure
Compute Histograms
Compute Statistics Histograms
Get Samples
Compute Class Statistics
Query Boundary
Compute Pixel Location
Compute Angles
Validate
Project