View In:
ArcGIS JavaScript
ArcGIS Online Map Viewer
ArcGIS Earth
ArcMap
View Footprint In:
ArcGIS Online Map Viewer
Service Description: Historical map showing lot and concession numbers, place names, railroads, ward boundaries and county boundaries.
Scale 2 1/2 miles per inch.
Map date: 1879
Map is page 21 of the Atlas of the province of Ontario by counties / published by Miles and Company, Toronto
Digital reproduction of map (25 x 40 cm.) in the Brock University Map, Data & GIS Library collection.
Georeferenced and modified from Brock call # G 3464 S35 1879 M55 by Map, Data and GIS Library, Brock University. (verso map)
Name: EarlyNiagara/Haldimand1879
Description: Historical map showing lot and concession numbers, place names, railroads, ward boundaries and county boundaries.
Scale 2 1/2 miles per inch.
Map date: 1879
Map is page 21 of the Atlas of the province of Ontario by counties / published by Miles and Company, Toronto
Digital reproduction of map (25 x 40 cm.) in the Brock University Map, Data & GIS Library collection.
Georeferenced and modified from Brock call # G 3464 S35 1879 M55 by Map, Data and GIS Library, Brock University. (verso map)
Single Fused Map Cache: false
Extent:
XMin: 538569.4540049651
YMin: 4718738.032671914
XMax: 630860.7545009651
YMax: 4791117.3443199145
Spatial Reference: 26917
(26917)
Initial Extent:
XMin: 538569.4540049651
YMin: 4718738.032671914
XMax: 630860.7545009651
YMax: 4791117.3443199145
Spatial Reference: 26917
(26917)
Full Extent:
XMin: 538569.4540049651
YMin: 4718738.032671914
XMax: 630860.7545009651
YMax: 4791117.3443199145
Spatial Reference: 26917
(26917)
Pixel Size X: 25.593815999999993
Pixel Size Y: 25.59381600000001
Band Count: 3
Pixel Type: U16
RasterFunction Infos: {"rasterFunctionInfos": [{
"name": "None",
"description": "",
"help": ""
}]}
Mensuration Capabilities: Basic
Has Histograms: true
Has Colormap: false
Has Multi Dimensions : false
Rendering Rule:
Min Scale: 0
Max Scale: 0
Copyright Text: Publisher: Miles and Company, Toronto.
Map, Data & GIS Library, Brock University.
Service Data Type: esriImageServiceDataTypeGeneric
Min Values: 0, 0, 0
Max Values: 255, 255, 255
Mean Values: 200.85196254141, 178.55530632607, 152.53537890486
Standard Deviation Values: 46.279295798354, 48.210235794956, 50.340081742377
Object ID Field:
Fields:
None
Default Mosaic Method: Center
Allowed Mosaic Methods:
SortField:
SortValue: null
Mosaic Operator: First
Default Compression Quality: 75
Default Resampling Method: Bilinear
Max Record Count: null
Max Image Height: 4100
Max Image Width: 15000
Max Download Image Count: null
Max Mosaic Image Count: null
Allow Raster Function: true
Allow Copy: true
Allow Analysis: true
Allow Compute TiePoints: false
Supports Statistics: false
Supports Advanced Queries: false
Use StandardizedQueries: true
Raster Type Infos:
Name: Raster Dataset
Description: Supports all ArcGIS Raster Datasets
Help:
Has Raster Attribute Table: false
Edit Fields Info: null
Ownership Based AccessControl For Rasters: null
Child Resources:
Info
Histograms
Statistics
Key Properties
Legend
Raster Function Infos
Supported Operations:
Export Image
Identify
Measure
Compute Histograms
Compute Statistics Histograms
Get Samples
Compute Class Statistics
Query Boundary
Compute Pixel Location
Compute Angles
Validate
Project