View In:
ArcGIS JavaScript
ArcGIS Online Map Viewer
ArcGIS Earth
ArcMap
View Footprint In:
ArcGIS Online Map Viewer
Service Description: Historical map showing boundary features, major roads and railroads.
Digital reproduction of map (18 x 23 1/2 in.) in the National Map Collection. Library and Archives Canada
Georeferenced and modified from NMC Map number 21910 by Map, Data & GIS Library, Brock University.
Name: EarlyNiagara/HaldimandWellandc1858NMC21910
Description: Historical map showing boundary features, major roads and railroads.
Digital reproduction of map (18 x 23 1/2 in.) in the National Map Collection. Library and Archives Canada
Georeferenced and modified from NMC Map number 21910 by Map, Data & GIS Library, Brock University.
Single Fused Map Cache: false
Extent:
XMin: 482857.9148353815
YMin: 4699887.121796874
XMax: 728596.6160233815
YMax: 4883149.882004875
Spatial Reference: 26717
(26717)
Initial Extent:
XMin: 482857.9148353815
YMin: 4699887.121796874
XMax: 728596.6160233815
YMax: 4883149.882004875
Spatial Reference: 26717
(26717)
Full Extent:
XMin: 482857.9148353815
YMin: 4699887.121796874
XMax: 728596.6160233815
YMax: 4883149.882004875
Spatial Reference: 26717
(26717)
Pixel Size X: 54.803456999999995
Pixel Size Y: 54.80345700000013
Band Count: 1
Pixel Type: U16
RasterFunction Infos: {"rasterFunctionInfos": [{
"name": "None",
"description": "",
"help": ""
}]}
Mensuration Capabilities: Basic
Has Histograms: true
Has Colormap: false
Has Multi Dimensions : false
Rendering Rule:
Min Scale: 0
Max Scale: 0
Copyright Text: Map, Data & GIS Library, Brock University.
Service Data Type: esriImageServiceDataTypeGeneric
Min Values: 0
Max Values: 255
Mean Values: 209.10885565578
Standard Deviation Values: 46.998903506272
Object ID Field:
Fields:
None
Default Mosaic Method: Center
Allowed Mosaic Methods:
SortField:
SortValue: null
Mosaic Operator: First
Default Compression Quality: 75
Default Resampling Method: Bilinear
Max Record Count: null
Max Image Height: 4100
Max Image Width: 15000
Max Download Image Count: null
Max Mosaic Image Count: null
Allow Raster Function: true
Allow Copy: true
Allow Analysis: true
Allow Compute TiePoints: false
Supports Statistics: false
Supports Advanced Queries: false
Use StandardizedQueries: true
Raster Type Infos:
Name: Raster Dataset
Description: Supports all ArcGIS Raster Datasets
Help:
Has Raster Attribute Table: false
Edit Fields Info: null
Ownership Based AccessControl For Rasters: null
Child Resources:
Info
Histograms
Statistics
Key Properties
Legend
Raster Function Infos
Supported Operations:
Export Image
Identify
Measure
Compute Histograms
Compute Statistics Histograms
Get Samples
Compute Class Statistics
Query Boundary
Compute Pixel Location
Compute Angles
Validate
Project