View In:
ArcGIS JavaScript
ArcGIS Online Map Viewer
ArcGIS Earth
ArcMap
View Footprint In:
ArcGIS Online Map Viewer
Service Description: Historical map showing cleared land, woods, marshes, churches & meeting houses, stone or brick houses, wooded houses, forges, Great Western Railway, Hamilton & Port Dover Railway. unfinished, roads, buildings, legend.
Relief shown by shading.
Scale [ca. 1:63,360].
Map date: 1863
Digital reproduction of map in the Public Archives of Canada. National Map Collection. Library and Archives Canada.
Georeferenced and modified from NMC Map number 21066 by Map, Data and GIS Library, Brock University.
Name: EarlyNiagara/HamiltonPortDalhousie1863NMC21066
Description: Historical map showing cleared land, woods, marshes, churches & meeting houses, stone or brick houses, wooded houses, forges, Great Western Railway, Hamilton & Port Dover Railway. unfinished, roads, buildings, legend.
Relief shown by shading.
Scale [ca. 1:63,360].
Map date: 1863
Digital reproduction of map in the Public Archives of Canada. National Map Collection. Library and Archives Canada.
Georeferenced and modified from NMC Map number 21066 by Map, Data and GIS Library, Brock University.
Single Fused Map Cache: false
Extent:
XMin: -8902564.153658545
YMin: 5310158.735095919
XMax: -8816177.537201544
YMax: 5356935.767587919
Spatial Reference: 102100
(3857)
Initial Extent:
XMin: -8902564.153658545
YMin: 5310158.735095919
XMax: -8816177.537201544
YMax: 5356935.767587919
Spatial Reference: 102100
(3857)
Full Extent:
XMin: -8902564.153658545
YMin: 5310158.735095919
XMax: -8816177.537201544
YMax: 5356935.767587919
Spatial Reference: 102100
(3857)
Pixel Size X: 12.168843000000052
Pixel Size Y: 12.168842999999915
Band Count: 1
Pixel Type: U16
RasterFunction Infos: {"rasterFunctionInfos": [{
"name": "None",
"description": "",
"help": ""
}]}
Mensuration Capabilities: Basic
Has Histograms: false
Has Colormap: false
Has Multi Dimensions : false
Rendering Rule:
Min Scale: 0
Max Scale: 0
Copyright Text: Signed: Henry Malet
Map, Data & GIS Library, Brock University.
Service Data Type: esriImageServiceDataTypeGeneric
Min Values: N/A
Max Values: N/A
Mean Values: N/A
Standard Deviation Values: N/A
Object ID Field:
Fields:
None
Default Mosaic Method: Center
Allowed Mosaic Methods:
SortField:
SortValue: null
Mosaic Operator: First
Default Compression Quality: 75
Default Resampling Method: Bilinear
Max Record Count: null
Max Image Height: 4100
Max Image Width: 15000
Max Download Image Count: null
Max Mosaic Image Count: null
Allow Raster Function: true
Allow Copy: true
Allow Analysis: true
Allow Compute TiePoints: false
Supports Statistics: false
Supports Advanced Queries: false
Use StandardizedQueries: true
Raster Type Infos:
Name: Raster Dataset
Description: Supports all ArcGIS Raster Datasets
Help:
Has Raster Attribute Table: false
Edit Fields Info: null
Ownership Based AccessControl For Rasters: null
Child Resources:
Info
Statistics
Key Properties
Legend
Raster Function Infos
Supported Operations:
Export Image
Identify
Measure
Compute Histograms
Compute Statistics Histograms
Get Samples
Compute Class Statistics
Query Boundary
Compute Pixel Location
Compute Angles
Validate
Project