View In:
ArcGIS JavaScript
ArcGIS Online Map Viewer
ArcGIS Earth
ArcMap
View Footprint In:
ArcGIS Online Map Viewer
Service Description: Historical map showing hydrological features of Lake Ontario. Includes lighthouses.
Includes insets: Port Ontario -- Pickering, or Liverpool -- Cobourg -- Port Hope -- Port of Oshawa -- Burlington Bay Canal -- Mouth of Niagara River --Toronto Harbour -- Port of Oakville -- Port Dalhousie -- Port Darlington -- Whitby Harbour -- Presqu'Isle Harbour -- Sackett's Harbour, -- Oswego Harbour -- Port of Genesee -- Big Sodus Bay -- Little Sodus Bay -- Kingston Harbour.
Scale [ca. 1:364,566] or 1 inch to 5 nautical miles.
Map date: 1863
Digital reproduction of map (60 x 86 cm.) in the Public Archives of Canada. National Map Collection. Library and Archives Canada.
Georeferenced and modified from NMC Map number 18910 by Map, Data and GIS Library, Brock University.
Name: EarlyNiagara/LakeOntario1863NMC18910
Description: Historical map showing hydrological features of Lake Ontario. Includes lighthouses.
Includes insets: Port Ontario -- Pickering, or Liverpool -- Cobourg -- Port Hope -- Port of Oshawa -- Burlington Bay Canal -- Mouth of Niagara River --Toronto Harbour -- Port of Oakville -- Port Dalhousie -- Port Darlington -- Whitby Harbour -- Presqu'Isle Harbour -- Sackett's Harbour, -- Oswego Harbour -- Port of Genesee -- Big Sodus Bay -- Little Sodus Bay -- Kingston Harbour.
Scale [ca. 1:364,566] or 1 inch to 5 nautical miles.
Map date: 1863
Digital reproduction of map (60 x 86 cm.) in the Public Archives of Canada. National Map Collection. Library and Archives Canada.
Georeferenced and modified from NMC Map number 18910 by Map, Data and GIS Library, Brock University.
Single Fused Map Cache: false
Extent:
XMin: 564237.0822798713
YMin: 4749358.557979554
XMax: 928237.5071118714
YMax: 5000705.811499554
Spatial Reference: 26917
(26917)
Initial Extent:
XMin: 564237.0822798713
YMin: 4749358.557979554
XMax: 928237.5071118714
YMax: 5000705.811499554
Spatial Reference: 26917
(26917)
Full Extent:
XMin: 564237.0822798713
YMin: 4749358.557979554
XMax: 928237.5071118714
YMax: 5000705.811499554
Spatial Reference: 26917
(26917)
Pixel Size X: 47.693976000000006
Pixel Size Y: 47.693975999999964
Band Count: 1
Pixel Type: U16
RasterFunction Infos: {"rasterFunctionInfos": [{
"name": "None",
"description": "",
"help": ""
}]}
Mensuration Capabilities: Basic
Has Histograms: true
Has Colormap: false
Has Multi Dimensions : false
Rendering Rule:
Min Scale: 0
Max Scale: 0
Copyright Text: Compiled from surveys made by Capt. Owen & Lieut. Herbert, R.N. and Capt. A. Ford
Surveyed by Edward M. Hodder
Publisher: W. C. Chewett & Co.
Map, Data & GIS Library, Brock University.
Service Data Type: esriImageServiceDataTypeGeneric
Min Values: 17
Max Values: 255
Mean Values: 176.38996663565
Standard Deviation Values: 43.319714002498
Object ID Field:
Fields:
None
Default Mosaic Method: Center
Allowed Mosaic Methods:
SortField:
SortValue: null
Mosaic Operator: First
Default Compression Quality: 75
Default Resampling Method: Bilinear
Max Record Count: null
Max Image Height: 4100
Max Image Width: 15000
Max Download Image Count: null
Max Mosaic Image Count: null
Allow Raster Function: true
Allow Copy: true
Allow Analysis: true
Allow Compute TiePoints: false
Supports Statistics: false
Supports Advanced Queries: false
Use StandardizedQueries: true
Raster Type Infos:
Name: Raster Dataset
Description: Supports all ArcGIS Raster Datasets
Help:
Has Raster Attribute Table: false
Edit Fields Info: null
Ownership Based AccessControl For Rasters: null
Child Resources:
Info
Histograms
Statistics
Key Properties
Legend
Raster Function Infos
Supported Operations:
Export Image
Identify
Measure
Compute Histograms
Compute Statistics Histograms
Get Samples
Compute Class Statistics
Query Boundary
Compute Pixel Location
Compute Angles
Validate
Project