View In:
ArcGIS JavaScript
ArcGIS Online Map Viewer
ArcGIS Earth
ArcMap
View Footprint In:
ArcGIS Online Map Viewer
Service Description: Map showing waters of Lake Iroquois (shoreline, depths) and retreating ice sheet (Late Wisconsin), morainic hills, gravel bar ; all mapped on a topographic base maps of Ontario and New York, legend. Depths shown by isolines. At head of title: Map no. 45f.
Name: EarlyNiagara/Lake_Iroquois_1936_geo_tif
Description: Map showing waters of Lake Iroquois (shoreline, depths) and retreating ice sheet (Late Wisconsin), morainic hills, gravel bar ; all mapped on a topographic base maps of Ontario and New York, legend. Depths shown by isolines. At head of title: Map no. 45f.
Single Fused Map Cache: false
Extent:
XMin: 568991.2640875321
YMin: 4747644.710457759
XMax: 957793.3110471673
YMax: 4985363.444266702
Spatial Reference: 26917
(26917)
Initial Extent:
XMin: 568991.2640875321
YMin: 4747644.710457759
XMax: 957793.3110471673
YMax: 4985363.444266702
Spatial Reference: 26917
(26917)
Full Extent:
XMin: 568991.2640875321
YMin: 4747644.710457759
XMax: 957793.3110471673
YMax: 4985363.444266702
Spatial Reference: 26917
(26917)
Pixel Size X: 27.78546751658938
Pixel Size Y: 29.733425116815894
Band Count: 3
Pixel Type: U8
RasterFunction Infos: {"rasterFunctionInfos": [{
"name": "None",
"description": "",
"help": ""
}]}
Mensuration Capabilities: Basic
Has Histograms: true
Has Colormap: false
Has Multi Dimensions : false
Rendering Rule:
Min Scale: 0
Max Scale: 0
Copyright Text: Brock University Map, Data & GIS Library
Service Data Type: esriImageServiceDataTypeRGB
Min Values: 0, 0, 0
Max Values: 255, 255, 255
Mean Values: 183.15909349296, 198.86808297383, 192.52229052966
Standard Deviation Values: 56.531679031421, 56.151569926249, 59.249998764732
Object ID Field:
Fields:
None
Default Mosaic Method: Center
Allowed Mosaic Methods:
SortField:
SortValue: null
Mosaic Operator: First
Default Compression Quality: 75
Default Resampling Method: Bilinear
Max Record Count: null
Max Image Height: 4100
Max Image Width: 15000
Max Download Image Count: null
Max Mosaic Image Count: null
Allow Raster Function: true
Allow Copy: true
Allow Analysis: true
Allow Compute TiePoints: false
Supports Statistics: false
Supports Advanced Queries: false
Use StandardizedQueries: true
Raster Type Infos:
Name: Raster Dataset
Description: Supports all ArcGIS Raster Datasets
Help:
Has Raster Attribute Table: false
Edit Fields Info: null
Ownership Based AccessControl For Rasters: null
Child Resources:
Info
Histograms
Statistics
Key Properties
Legend
Raster Function Infos
Supported Operations:
Export Image
Identify
Measure
Compute Histograms
Compute Statistics Histograms
Get Samples
Compute Class Statistics
Query Boundary
Compute Pixel Location
Compute Angles
Validate
Project