View In:
ArcGIS JavaScript
ArcGIS Online Map Viewer
ArcGIS Earth
ArcMap
View Footprint In:
ArcGIS Online Map Viewer
Service Description: Historical map showing county roads, King's highways, town boundaries, railroads, line of second and third Welland Canal, lot and concession numbers, legend. "Drawn by K.G. Gould, Sept. 4th, 1956."--in bottom right corner. Blue print.
Name: EarlyNiagara/Lincoln1968
Description: Historical map showing county roads, King's highways, town boundaries, railroads, line of second and third Welland Canal, lot and concession numbers, legend. "Drawn by K.G. Gould, Sept. 4th, 1956."--in bottom right corner. Blue print.
Single Fused Map Cache: false
Extent:
XMin: -8884169.157332245
YMin: 5297306.172065296
XMax: -8791573.590476245
YMax: 5356108.848834296
Spatial Reference: 102100
(3857)
Initial Extent:
XMin: -8884169.157332245
YMin: 5297306.172065296
XMax: -8791573.590476245
YMax: 5356108.848834296
Spatial Reference: 102100
(3857)
Full Extent:
XMin: -8884169.157332245
YMin: 5297306.172065296
XMax: -8791573.590476245
YMax: 5356108.848834296
Spatial Reference: 102100
(3857)
Pixel Size X: 8.02109900000005
Pixel Size Y: 8.021098999999937
Band Count: 3
Pixel Type: U16
RasterFunction Infos: {"rasterFunctionInfos": [{
"name": "None",
"description": "",
"help": ""
}]}
Mensuration Capabilities: Basic
Has Histograms: true
Has Colormap: false
Has Multi Dimensions : false
Rendering Rule:
Min Scale: 0
Max Scale: 0
Copyright Text: Brock University Map, Data & GIS Library
Service Data Type: esriImageServiceDataTypeGeneric
Min Values: 0, 0, 0
Max Values: 255, 255, 255
Mean Values: 221.64590149109, 221.28266314682, 211.86264061079
Standard Deviation Values: 52.717476442553, 50.928324359377, 49.316888049447
Object ID Field:
Fields:
None
Default Mosaic Method: Center
Allowed Mosaic Methods:
SortField:
SortValue: null
Mosaic Operator: First
Default Compression Quality: 75
Default Resampling Method: Bilinear
Max Record Count: null
Max Image Height: 4100
Max Image Width: 15000
Max Download Image Count: null
Max Mosaic Image Count: null
Allow Raster Function: true
Allow Copy: true
Allow Analysis: true
Allow Compute TiePoints: false
Supports Statistics: false
Supports Advanced Queries: false
Use StandardizedQueries: true
Raster Type Infos:
Name: Raster Dataset
Description: Supports all ArcGIS Raster Datasets
Help:
Has Raster Attribute Table: false
Edit Fields Info: null
Ownership Based AccessControl For Rasters: null
Child Resources:
Info
Histograms
Statistics
Key Properties
Legend
Raster Function Infos
Supported Operations:
Export Image
Identify
Measure
Compute Histograms
Compute Statistics Histograms
Get Samples
Compute Class Statistics
Query Boundary
Compute Pixel Location
Compute Angles
Validate
Project