View In:
ArcGIS JavaScript
ArcGIS Online Map Viewer
ArcGIS Earth
ArcMap
View Footprint In:
ArcGIS Online Map Viewer
Service Description: Historical map showing county roads, King's highways, town boundaries, railroads, line of second and third Welland Canal, lot and concession numbers, legend. "Drawn by K.G. Gould, Sept. 4th, 1956."--in bottom right corner. Blue print.
Name: EarlyNiagara/LincolnCounty1956
Description: Historical map showing county roads, King's highways, town boundaries, railroads, line of second and third Welland Canal, lot and concession numbers, legend. "Drawn by K.G. Gould, Sept. 4th, 1956."--in bottom right corner. Blue print.
Single Fused Map Cache: false
Extent:
XMin: 594642.0882704819
YMin: 4753364.70250814
XMax: 666636.530614173
YMax: 4797833.572103999
Spatial Reference: 26917
(26917)
Initial Extent:
XMin: 594642.0882704819
YMin: 4753364.70250814
XMax: 666636.530614173
YMax: 4797833.572103999
Spatial Reference: 26917
(26917)
Full Extent:
XMin: 594642.0882704819
YMin: 4753364.70250814
XMax: 666636.530614173
YMax: 4797833.572103999
Spatial Reference: 26917
(26917)
Pixel Size X: 4.146906419197692
Pixel Size Y: 4.2721557878622605
Band Count: 1
Pixel Type: U8
RasterFunction Infos: {"rasterFunctionInfos": [{
"name": "None",
"description": "",
"help": ""
}]}
Mensuration Capabilities: Basic
Has Histograms: true
Has Colormap: false
Has Multi Dimensions : false
Rendering Rule:
Min Scale: 0
Max Scale: 0
Copyright Text: Brock University Map, Data & GIS Library
Service Data Type: esriImageServiceDataTypeGeneric
Min Values: 0
Max Values: 255
Mean Values: 231.23020927788
Standard Deviation Values: 54.976911260176
Object ID Field:
Fields:
None
Default Mosaic Method: Center
Allowed Mosaic Methods:
SortField:
SortValue: null
Mosaic Operator: First
Default Compression Quality: 75
Default Resampling Method: Bilinear
Max Record Count: null
Max Image Height: 4100
Max Image Width: 15000
Max Download Image Count: null
Max Mosaic Image Count: null
Allow Raster Function: true
Allow Copy: true
Allow Analysis: true
Allow Compute TiePoints: false
Supports Statistics: false
Supports Advanced Queries: false
Use StandardizedQueries: true
Raster Type Infos:
Name: Raster Dataset
Description: Supports all ArcGIS Raster Datasets
Help:
Has Raster Attribute Table: false
Edit Fields Info: null
Ownership Based AccessControl For Rasters: null
Child Resources:
Info
Histograms
Statistics
Key Properties
Legend
Raster Function Infos
Supported Operations:
Export Image
Identify
Measure
Compute Histograms
Compute Statistics Histograms
Get Samples
Compute Class Statistics
Query Boundary
Compute Pixel Location
Compute Angles
Validate
Project