View In:
ArcGIS JavaScript
ArcGIS Online Map Viewer
ArcGIS Earth
ArcMap
View Footprint In:
ArcGIS Online Map Viewer
Service Description: Historical map showing boundary and transportation features, lot and concesssion numbers, rivers, line of Second and Third Welland Canal and populated places. Relief shown by hachures. Page numbers "56" and "57" in top corners. From the notes written on verso, it appears that the western sheet is from a 1879 atlas and the eastern sheet is from a 1877 atlas which have been glued together to form this map. Photoreproduction.
Name: EarlyNiagara/LincolnWellandCounty1877
Description: Historical map showing boundary and transportation features, lot and concesssion numbers, rivers, line of Second and Third Welland Canal and populated places. Relief shown by hachures. Page numbers "56" and "57" in top corners. From the notes written on verso, it appears that the western sheet is from a 1879 atlas and the eastern sheet is from a 1877 atlas which have been glued together to form this map. Photoreproduction.
Single Fused Map Cache: false
Extent:
XMin: 585899.8099092018
YMin: 4739572.127603125
XMax: 671323.2144329355
YMax: 4796807.380624492
Spatial Reference: 26917
(26917)
Initial Extent:
XMin: 585899.8099092018
YMin: 4739572.127603125
XMax: 671323.2144329355
YMax: 4796807.380624492
Spatial Reference: 26917
(26917)
Full Extent:
XMin: 585899.8099092018
YMin: 4739572.127603125
XMax: 671323.2144329355
YMax: 4796807.380624492
Spatial Reference: 26917
(26917)
Pixel Size X: 11.30537381203463
Pixel Size Y: 12.108155917361307
Band Count: 3
Pixel Type: U8
RasterFunction Infos: {"rasterFunctionInfos": [{
"name": "None",
"description": "",
"help": ""
}]}
Mensuration Capabilities: Basic
Has Histograms: true
Has Colormap: false
Has Multi Dimensions : false
Rendering Rule:
Min Scale: 0
Max Scale: 0
Copyright Text: Brock University Map, Data & GIS Library
Service Data Type: esriImageServiceDataTypeRGB
Min Values: 0, 0, 0
Max Values: 255, 255, 255
Mean Values: 209.36315382061, 206.59840115737, 193.02450129652
Standard Deviation Values: 51.915718914422, 50.583965007092, 49.714366212549
Object ID Field:
Fields:
None
Default Mosaic Method: Center
Allowed Mosaic Methods:
SortField:
SortValue: null
Mosaic Operator: First
Default Compression Quality: 75
Default Resampling Method: Bilinear
Max Record Count: null
Max Image Height: 4100
Max Image Width: 15000
Max Download Image Count: null
Max Mosaic Image Count: null
Allow Raster Function: true
Allow Copy: true
Allow Analysis: true
Allow Compute TiePoints: false
Supports Statistics: false
Supports Advanced Queries: false
Use StandardizedQueries: true
Raster Type Infos:
Name: Raster Dataset
Description: Supports all ArcGIS Raster Datasets
Help:
Has Raster Attribute Table: false
Edit Fields Info: null
Ownership Based AccessControl For Rasters: null
Child Resources:
Info
Histograms
Statistics
Key Properties
Legend
Raster Function Infos
Supported Operations:
Export Image
Identify
Measure
Compute Histograms
Compute Statistics Histograms
Get Samples
Compute Class Statistics
Query Boundary
Compute Pixel Location
Compute Angles
Validate
Project