View In:
ArcGIS JavaScript
ArcGIS Online Map Viewer
ArcGIS Earth
ArcMap
View Footprint In:
ArcGIS Online Map Viewer
Service Description: Historical map showing lot and concession numbers, landowner names. "An accurate plan of Township no.4 in the District of Nassau... 25th October 1791, Signed Augustus Jones." "Copied from an original, Charles Chambers, Samuel Holland" "No.14" Oriented with north to the bottom. Photoreproduction. Described in: Mapping Upper Canada, 1780-1867 / Joan Winearls. 1991. Reference no.: A1153
Name: EarlyNiagara/Louth1791
Description: Historical map showing lot and concession numbers, landowner names. "An accurate plan of Township no.4 in the District of Nassau... 25th October 1791, Signed Augustus Jones." "Copied from an original, Charles Chambers, Samuel Holland" "No.14" Oriented with north to the bottom. Photoreproduction. Described in: Mapping Upper Canada, 1780-1867 / Joan Winearls. 1991. Reference no.: A1153
Single Fused Map Cache: false
Extent:
XMin: 629111.2626186023
YMin: 4773165.375632441
XMax: 641796.0503001278
YMax: 4786977.467742795
Spatial Reference: 26917
(26917)
Initial Extent:
XMin: 629111.2626186023
YMin: 4773165.375632441
XMax: 641796.0503001278
YMax: 4786977.467742795
Spatial Reference: 26917
(26917)
Full Extent:
XMin: 629111.2626186023
YMin: 4773165.375632441
XMax: 641796.0503001278
YMax: 4786977.467742795
Spatial Reference: 26917
(26917)
Pixel Size X: 2.9376534695520085
Pixel Size Y: 2.7356094494661227
Band Count: 1
Pixel Type: U8
RasterFunction Infos: {"rasterFunctionInfos": [{
"name": "None",
"description": "",
"help": ""
}]}
Mensuration Capabilities: Basic
Has Histograms: true
Has Colormap: false
Has Multi Dimensions : false
Rendering Rule:
Min Scale: 0
Max Scale: 0
Copyright Text: Brock University Map, Data & GIS Library
Service Data Type: esriImageServiceDataTypeGeneric
Min Values: 0
Max Values: 255
Mean Values: 113.94834838132
Standard Deviation Values: 41.463369436825
Object ID Field:
Fields:
None
Default Mosaic Method: Center
Allowed Mosaic Methods:
SortField:
SortValue: null
Mosaic Operator: First
Default Compression Quality: 75
Default Resampling Method: Bilinear
Max Record Count: null
Max Image Height: 4100
Max Image Width: 15000
Max Download Image Count: null
Max Mosaic Image Count: null
Allow Raster Function: true
Allow Copy: true
Allow Analysis: true
Allow Compute TiePoints: false
Supports Statistics: false
Supports Advanced Queries: false
Use StandardizedQueries: true
Raster Type Infos:
Name: Raster Dataset
Description: Supports all ArcGIS Raster Datasets
Help:
Has Raster Attribute Table: false
Edit Fields Info: null
Ownership Based AccessControl For Rasters: null
Child Resources:
Info
Histograms
Statistics
Key Properties
Legend
Raster Function Infos
Supported Operations:
Export Image
Identify
Measure
Compute Histograms
Compute Statistics Histograms
Get Samples
Compute Class Statistics
Query Boundary
Compute Pixel Location
Compute Angles
Validate
Project