View In:
ArcGIS JavaScript
ArcGIS Online Map Viewer
ArcGIS Earth
ArcMap
View Footprint In:
ArcGIS Online Map Viewer
Service Description: Historical map showing lot and concession numbers, landowner names. "An accurate plan of Township no.4 in the District of Nassau... 25th October 1791, Signed Augustus Jones." "Copied from an original, Charles Chambers, [signed] Samuel Holland" Oriented with north to the bottom. "A. 17" "1514" stamped in top corner. Photoreproduction.
Name: EarlyNiagara/Louth1791a
Description: Historical map showing lot and concession numbers, landowner names. "An accurate plan of Township no.4 in the District of Nassau... 25th October 1791, Signed Augustus Jones." "Copied from an original, Charles Chambers, [signed] Samuel Holland" Oriented with north to the bottom. "A. 17" "1514" stamped in top corner. Photoreproduction.
Single Fused Map Cache: false
Extent:
XMin: 628299.4553420554
YMin: 4771291.800279589
XMax: 642268.3098801326
YMax: 4788336.047525565
Spatial Reference: 26917
(26917)
Initial Extent:
XMin: 628299.4553420554
YMin: 4771291.800279589
XMax: 642268.3098801326
YMax: 4788336.047525565
Spatial Reference: 26917
(26917)
Full Extent:
XMin: 628299.4553420554
YMin: 4771291.800279589
XMax: 642268.3098801326
YMax: 4788336.047525565
Spatial Reference: 26917
(26917)
Pixel Size X: 2.239316213221728
Pixel Size Y: 3.6988383780329364
Band Count: 1
Pixel Type: U8
RasterFunction Infos: {"rasterFunctionInfos": [{
"name": "None",
"description": "",
"help": ""
}]}
Mensuration Capabilities: Basic
Has Histograms: true
Has Colormap: false
Has Multi Dimensions : false
Rendering Rule:
Min Scale: 0
Max Scale: 0
Copyright Text: Brock University Map, Data & GIS Library
Service Data Type: esriImageServiceDataTypeGeneric
Min Values: 0
Max Values: 255
Mean Values: 70.442178809706
Standard Deviation Values: 54.114031211564
Object ID Field:
Fields:
None
Default Mosaic Method: Center
Allowed Mosaic Methods:
SortField:
SortValue: null
Mosaic Operator: First
Default Compression Quality: 75
Default Resampling Method: Bilinear
Max Record Count: null
Max Image Height: 4100
Max Image Width: 15000
Max Download Image Count: null
Max Mosaic Image Count: null
Allow Raster Function: true
Allow Copy: true
Allow Analysis: true
Allow Compute TiePoints: false
Supports Statistics: false
Supports Advanced Queries: false
Use StandardizedQueries: true
Raster Type Infos:
Name: Raster Dataset
Description: Supports all ArcGIS Raster Datasets
Help:
Has Raster Attribute Table: false
Edit Fields Info: null
Ownership Based AccessControl For Rasters: null
Child Resources:
Info
Histograms
Statistics
Key Properties
Legend
Raster Function Infos
Supported Operations:
Export Image
Identify
Measure
Compute Histograms
Compute Statistics Histograms
Get Samples
Compute Class Statistics
Query Boundary
Compute Pixel Location
Compute Angles
Validate
Project