View In:
ArcGIS JavaScript
ArcGIS Online Map Viewer
ArcGIS Earth
ArcMap
View Footprint In:
ArcGIS Online Map Viewer
Service Description: Historical map showing lot and concession numbers, landowner names. "A.16" "1512" stamped in top margin. "Entered, examined and compared the 25th January 1812" Title in corners: Louth, Dist. of Niagara Oriented with north to the bottom. Photoreproduction. Described in: Mapping Upper Canada, 1780-1867 / Joan Winearls. 1991. Reference no.: A1155
Name: EarlyNiagara/Louth1812
Description: Historical map showing lot and concession numbers, landowner names. "A.16" "1512" stamped in top margin. "Entered, examined and compared the 25th January 1812" Title in corners: Louth, Dist. of Niagara Oriented with north to the bottom. Photoreproduction. Described in: Mapping Upper Canada, 1780-1867 / Joan Winearls. 1991. Reference no.: A1155
Single Fused Map Cache: false
Extent:
XMin: 628469.9715714684
YMin: 4771068.987608046
XMax: 641851.5711324422
YMax: 4788004.774562411
Spatial Reference: 26917
(26917)
Initial Extent:
XMin: 628469.9715714684
YMin: 4771068.987608046
XMax: 641851.5711324422
YMax: 4788004.774562411
Spatial Reference: 26917
(26917)
Full Extent:
XMin: 628469.9715714684
YMin: 4771068.987608046
XMax: 641851.5711324422
YMax: 4788004.774562411
Spatial Reference: 26917
(26917)
Pixel Size X: 2.202007497280536
Pixel Size Y: 3.6064282270793737
Band Count: 1
Pixel Type: U8
RasterFunction Infos: {"rasterFunctionInfos": [{
"name": "None",
"description": "",
"help": ""
}]}
Mensuration Capabilities: Basic
Has Histograms: true
Has Colormap: false
Has Multi Dimensions : false
Rendering Rule:
Min Scale: 0
Max Scale: 0
Copyright Text: Brock University Map, Data & GIS Library
Service Data Type: esriImageServiceDataTypeGeneric
Min Values: 0
Max Values: 255
Mean Values: 75.315451002297
Standard Deviation Values: 49.063133680634
Object ID Field:
Fields:
None
Default Mosaic Method: Center
Allowed Mosaic Methods:
SortField:
SortValue: null
Mosaic Operator: First
Default Compression Quality: 75
Default Resampling Method: Bilinear
Max Record Count: null
Max Image Height: 4100
Max Image Width: 15000
Max Download Image Count: null
Max Mosaic Image Count: null
Allow Raster Function: true
Allow Copy: true
Allow Analysis: true
Allow Compute TiePoints: false
Supports Statistics: false
Supports Advanced Queries: false
Use StandardizedQueries: true
Raster Type Infos:
Name: Raster Dataset
Description: Supports all ArcGIS Raster Datasets
Help:
Has Raster Attribute Table: false
Edit Fields Info: null
Ownership Based AccessControl For Rasters: null
Child Resources:
Info
Histograms
Statistics
Key Properties
Legend
Raster Function Infos
Supported Operations:
Export Image
Identify
Measure
Compute Histograms
Compute Statistics Histograms
Get Samples
Compute Class Statistics
Query Boundary
Compute Pixel Location
Compute Angles
Validate
Project