View In:
ArcGIS JavaScript
ArcGIS Online Map Viewer
ArcGIS Earth
ArcMap
View Footprint In:
ArcGIS Online Map Viewer
Service Description: Map showing lot numbers with landowners' names, roads, railroads, battle fields identified with symbol.
Map date: 1876.
Digital reproduction of map on page 50 of Illustrated historical atlas of the counties of Lincoln and Welland, Ont., Toronto : H.R. Page, 1876
Relief shown by hachures.
Georeferenced and modified by Map, Data and GIS Library, Brock University.
Name: EarlyNiagara/Louth1876
Description: Map showing lot numbers with landowners' names, roads, railroads, battle fields identified with symbol.
Map date: 1876.
Digital reproduction of map on page 50 of Illustrated historical atlas of the counties of Lincoln and Welland, Ont., Toronto : H.R. Page, 1876
Relief shown by hachures.
Georeferenced and modified by Map, Data and GIS Library, Brock University.
Single Fused Map Cache: false
Extent:
XMin: -8838495.37472004
YMin: 5326969.1577414125
XMax: -8824234.850368042
YMax: 5343123.327389413
Spatial Reference: 102100
(3857)
Initial Extent:
XMin: -8838495.37472004
YMin: 5326969.1577414125
XMax: -8824234.850368042
YMax: 5343123.327389413
Spatial Reference: 102100
(3857)
Full Extent:
XMin: -8838495.37472004
YMin: 5326969.1577414125
XMax: -8824234.850368042
YMax: 5343123.327389413
Spatial Reference: 102100
(3857)
Pixel Size X: 5.289511999999689
Pixel Size Y: 5.289512000000013
Band Count: 1
Pixel Type: U16
RasterFunction Infos: {"rasterFunctionInfos": [{
"name": "None",
"description": "",
"help": ""
}]}
Mensuration Capabilities: Basic
Has Histograms: true
Has Colormap: false
Has Multi Dimensions : false
Rendering Rule:
Min Scale: 0
Max Scale: 0
Copyright Text: Atlas compiled, drawn and published by H.R. Page.
Map, Data & GIS Library, Brock University.
Service Data Type: esriImageServiceDataTypeGeneric
Min Values: 43
Max Values: 244
Mean Values: 213.79480867564
Standard Deviation Values: 47.535448166465
Object ID Field:
Fields:
None
Default Mosaic Method: Center
Allowed Mosaic Methods:
SortField:
SortValue: null
Mosaic Operator: First
Default Compression Quality: 75
Default Resampling Method: Bilinear
Max Record Count: null
Max Image Height: 4100
Max Image Width: 15000
Max Download Image Count: null
Max Mosaic Image Count: null
Allow Raster Function: true
Allow Copy: true
Allow Analysis: true
Allow Compute TiePoints: false
Supports Statistics: false
Supports Advanced Queries: false
Use StandardizedQueries: true
Raster Type Infos:
Name: Raster Dataset
Description: Supports all ArcGIS Raster Datasets
Help:
Has Raster Attribute Table: false
Edit Fields Info: null
Ownership Based AccessControl For Rasters: null
Child Resources:
Info
Histograms
Statistics
Key Properties
Legend
Raster Function Infos
Supported Operations:
Export Image
Identify
Measure
Compute Histograms
Compute Statistics Histograms
Get Samples
Compute Class Statistics
Query Boundary
Compute Pixel Location
Compute Angles
Validate
Project