View In:
ArcGIS JavaScript
ArcGIS Online Map Viewer
ArcGIS Earth
ArcMap
View Footprint In:
ArcGIS Online Map Viewer
Service Description: Map showing road features, city planning. This plan is based on Niagara Street, National topographic series.
Name: EarlyNiagara/LouthTownship1966
Description: Map showing road features, city planning. This plan is based on Niagara Street, National topographic series.
Single Fused Map Cache: false
Extent:
XMin: 628657.4378818405
YMin: 4771979.150116681
XMax: 642616.368994131
YMax: 4786830.29202597
Spatial Reference: 26917
(26917)
Initial Extent:
XMin: 628657.4378818405
YMin: 4771979.150116681
XMax: 642616.368994131
YMax: 4786830.29202597
Spatial Reference: 26917
(26917)
Full Extent:
XMin: 628657.4378818405
YMin: 4771979.150116681
XMax: 642616.368994131
YMax: 4786830.29202597
Spatial Reference: 26917
(26917)
Pixel Size X: 1.634535259050407
Pixel Size Y: 1.5565603091174063
Band Count: 1
Pixel Type: U8
RasterFunction Infos: {"rasterFunctionInfos": [{
"name": "None",
"description": "",
"help": ""
}]}
Mensuration Capabilities: Basic
Has Histograms: true
Has Colormap: false
Has Multi Dimensions : false
Rendering Rule:
Min Scale: 0
Max Scale: 0
Copyright Text: Brock University Map, Data & GIS Library
Service Data Type: esriImageServiceDataTypeGeneric
Min Values: 0
Max Values: 255
Mean Values: 229.07811280152
Standard Deviation Values: 63.247601709801
Object ID Field:
Fields:
None
Default Mosaic Method: Center
Allowed Mosaic Methods:
SortField:
SortValue: null
Mosaic Operator: First
Default Compression Quality: 75
Default Resampling Method: Bilinear
Max Record Count: null
Max Image Height: 4100
Max Image Width: 15000
Max Download Image Count: null
Max Mosaic Image Count: null
Allow Raster Function: true
Allow Copy: true
Allow Analysis: true
Allow Compute TiePoints: false
Supports Statistics: false
Supports Advanced Queries: false
Use StandardizedQueries: true
Raster Type Infos:
Name: Raster Dataset
Description: Supports all ArcGIS Raster Datasets
Help:
Has Raster Attribute Table: false
Edit Fields Info: null
Ownership Based AccessControl For Rasters: null
Child Resources:
Info
Histograms
Statistics
Key Properties
Legend
Raster Function Infos
Supported Operations:
Export Image
Identify
Measure
Compute Histograms
Compute Statistics Histograms
Get Samples
Compute Class Statistics
Query Boundary
Compute Pixel Location
Compute Angles
Validate
Project