View In:
ArcGIS JavaScript
ArcGIS Online Map Viewer
ArcGIS Earth
ArcMap
View Footprint In:
ArcGIS Online Map Viewer
Service Description: Historical map showing road and transportation features, lot and concession numbers, locks 11-21 of the second Welland Canal.
Geographic coverage of Merritton, Ont.
Digital reproduction of map (69 x 96 cm.) in the Public Archives of Canada. National Map Collection. Library and Archives Canada.
Relief shown by hachures
Georeferenced and modified from NMC Map number 22875 by Map, Data and GIS Library, Brock University.
Name: EarlyNiagara/Merritton1855NMC22875
Description: Historical map showing road and transportation features, lot and concession numbers, locks 11-21 of the second Welland Canal.
Geographic coverage of Merritton, Ont.
Digital reproduction of map (69 x 96 cm.) in the Public Archives of Canada. National Map Collection. Library and Archives Canada.
Relief shown by hachures
Georeferenced and modified from NMC Map number 22875 by Map, Data and GIS Library, Brock University.
Single Fused Map Cache: false
Extent:
XMin: 643530.1552083557
YMin: 4775830.096451004
XMax: 646866.8644023557
YMax: 4778863.283258004
Spatial Reference: 26717
(26717)
Initial Extent:
XMin: 643530.1552083557
YMin: 4775830.096451004
XMax: 646866.8644023557
YMax: 4778863.283258004
Spatial Reference: 26717
(26717)
Full Extent:
XMin: 643530.1552083557
YMin: 4775830.096451004
XMax: 646866.8644023557
YMax: 4778863.283258004
Spatial Reference: 26717
(26717)
Pixel Size X: 0.6790209999999991
Pixel Size Y: 0.6790210000000175
Band Count: 1
Pixel Type: U16
RasterFunction Infos: {"rasterFunctionInfos": [{
"name": "None",
"description": "",
"help": ""
}]}
Mensuration Capabilities: Basic
Has Histograms: true
Has Colormap: false
Has Multi Dimensions : false
Rendering Rule:
Min Scale: 0
Max Scale: 0
Copyright Text: Map, Data & GIS Library, Brock University.
Service Data Type: esriImageServiceDataTypeGeneric
Min Values: 21
Max Values: 255
Mean Values: 166.44726589338
Standard Deviation Values: 43.893796573306
Object ID Field:
Fields:
None
Default Mosaic Method: Center
Allowed Mosaic Methods:
SortField:
SortValue: null
Mosaic Operator: First
Default Compression Quality: 75
Default Resampling Method: Bilinear
Max Record Count: null
Max Image Height: 4100
Max Image Width: 15000
Max Download Image Count: null
Max Mosaic Image Count: null
Allow Raster Function: true
Allow Copy: true
Allow Analysis: true
Allow Compute TiePoints: false
Supports Statistics: false
Supports Advanced Queries: false
Use StandardizedQueries: true
Raster Type Infos:
Name: Raster Dataset
Description: Supports all ArcGIS Raster Datasets
Help:
Has Raster Attribute Table: false
Edit Fields Info: null
Ownership Based AccessControl For Rasters: null
Child Resources:
Info
Histograms
Statistics
Key Properties
Legend
Raster Function Infos
Supported Operations:
Export Image
Identify
Measure
Compute Histograms
Compute Statistics Histograms
Get Samples
Compute Class Statistics
Query Boundary
Compute Pixel Location
Compute Angles
Validate
Project